 BEGIN:VCALENDAR
VERSION:2.0
PRODID:-//JFKL - ECPv4.4.5//NONSGML v1.0//EN
CALSCALE:GREGORIAN
METHOD:PUBLISH
X-WR-CALNAME:JFKL
X-ORIGINAL-URL:https://www.jfkl.org.my
X-WR-CALDESC:Events for JFKL
BEGIN:VEVENT
DTSTART;TZID=Asia/Kuala_Lumpur:20141004T150000
DTEND;TZID=Asia/Kuala_Lumpur:20141004T150000
DTSTAMP:20260421T082545
CREATED:20220613T195114Z
LAST-MODIFIED:20230117T190133Z
UID:3389-1412434800-1412434800@www.jfkl.org.my
SUMMARY:Weekend Japanese Film Show In October Death Of A Japanese Salesman
DESCRIPTION:[vc_row css=".vc_custom_1655438798178{margin-bottom: 50px !important;}"][vc_column width="1/6"][/vc_column][vc_column width="2/3"][vc_column_text]The Weekend Japanese Film Show has been organised by Japan Foundation Kuala Lumpur (JFKL) regularly for over 10 years. The programme takes place every first Saturday of the month and is free of charge. All films are presented in Japanese with English subtitles.\nIn partnership with the National Academy of Arts\, Culture & Heritage (Aswara)\, the programme is held at the Faculty of Film and Video?s Mini Theatre.\nDate: 4th October 2014\, 3:00 pm\nVenue: Pawagam Mini\, Tingkat 3 (Bangunan Baru)\, Aswara\, 464\, Jalan Tun Ismail\, 50480 Kuala Lumpur\, Malaysia\nAdmission: Free\nDownload our flyer here for the location map.[/vc_column_text][vc_single_image source="external_link" custom_src="https://www.jfkl.org.my/wp-content/uploads/2023/01/WJS-Oct03ft-445x630-1.jpg" css=".vc_custom_1655438785566{padding-bottom: 20px !important;}"][vc_column_text]Death of a Japanese Salesman\nエンディングノート\n(Colour / 2011 / 90min/ Documentary)\nTomoaki Sunada was a typical sales representative who spent more than four decades working in the same company. Upon his retirement at 67 years old\, he was diagnosed with terminal stomach cancer. This was an unexpected and grave miscalculation for an often meticulous wheeler and dealer. His filmmaking daughter captures his final days as he threw himself into making an ending note\, a memorandum for the family of the deceased inherent in Japanese society.\nMami?s feature-length debut was a commercial and critical success\, winning film festival prizes in Chicago\, Dubai and Sydney. The Japan Times described it as one of the top ten best local films of the year\, praising the director for providing ?an unflinching\, unsentimental view of the dying process.\n[/vc_column_text][/vc_column][vc_column width="1/6"][/vc_column][/vc_row]\n
URL:https://www.jfkl.org.my/events/weekend-japanese-film-show-in-october-death-of-a-japanese-salesman/
CATEGORIES:Special Screening
ATTACH;FMTTYPE=image/jpeg:https://www.jfkl.org.my/wp-content/uploads/2022/06/848_ext_01_0.jpg
ORGANIZER;CN="Organized%20By%20JFKL":MAILTO:Email
END:VEVENT
END:VCALENDAR