 BEGIN:VCALENDAR
VERSION:2.0
PRODID:-//JFKL - ECPv4.4.5//NONSGML v1.0//EN
CALSCALE:GREGORIAN
METHOD:PUBLISH
X-WR-CALNAME:JFKL
X-ORIGINAL-URL:https://www.jfkl.org.my
X-WR-CALDESC:Events for JFKL
BEGIN:VEVENT
DTSTART;TZID=Asia/Kuala_Lumpur:20120209T000000
DTEND;TZID=Asia/Kuala_Lumpur:20120209T000000
DTSTAMP:20260422T202539
CREATED:20220613T194116Z
LAST-MODIFIED:20220626T183555Z
UID:3061-1328745600-1328745600@www.jfkl.org.my
SUMMARY:Unit Asia Southeast Asian Tour 2012
DESCRIPTION:[vc_row css=".vc_custom_1655877799059{margin-bottom: 50px !important;}"][vc_column width="1/6"][/vc_column][vc_column width="2/3"][vc_column_text]"unit asia" which was formed by five top musicians of Asia with "Asian Jazz of Future" in a full of energy will perform enthusiastic stage in Southeast Asia. After their debut in 2008\, unit asia-the Asian jazz group with members from Japan\, Thailand and Malaysia will be back to propel Asian Jazz to new heights in their Southeast Asian Tour 2012.\n\nOrganized by:\nJapan Foundation\, Kuala Lumpur (JFKL)\nMusic City\n\nProduced by:\nPlanets Arts Co.\nwww.planet-arts.co.jp/paeng/unitasia/index.html\n\nOfficial Venue:\nKL Live Event Hall\nwww.kl-live.com.my/southeast.asp\n\nTicket Agent: AirAsiaRedtix\n\nDate and Time :9 February 2012\, 8:00 PM\nVenue :KL Live Event Hall\n\nTicketing:\nRM150.00 (VIP) & RM100.00\nAirAsiaRedtix ? Tel: (60)3 8775 4666 | www.airasiaredtix.com\n\n(Early Bird Special Promotion 20% discount for those who purchase before 31 January!)\n\n*10% discount for JFKL members (for more details please call Japan Foundation\, Kuala Lumpur at (603-2284 6228) or email at jpcc@jfkl.org.my)\n\n*Friendly reminder: JFKL members must show the membership card at the time of purchase to enjoy 10% discount. This 10% discount is available for JFKL members until 9 February 2012.[/vc_column_text][/vc_column][vc_column width="1/6"][/vc_column][/vc_row]
URL:https://www.jfkl.org.my/events/unit-asia-southeast-asian-tour-2012/
CATEGORIES:Performing Arts
ATTACH;FMTTYPE=image/jpeg:https://www.jfkl.org.my/wp-content/uploads/2022/06/1224_ext_01_0.jpg
ORGANIZER;CN="Organized%20By%20JFKL":MAILTO:Email
END:VEVENT
END:VCALENDAR