 BEGIN:VCALENDAR
VERSION:2.0
PRODID:-//JFKL - ECPv4.4.5//NONSGML v1.0//EN
CALSCALE:GREGORIAN
METHOD:PUBLISH
X-WR-CALNAME:JFKL
X-ORIGINAL-URL:https://www.jfkl.org.my
X-WR-CALDESC:Events for JFKL
BEGIN:VEVENT
DTSTART;TZID=Asia/Kuala_Lumpur:20181013T100000
DTEND;TZID=Asia/Kuala_Lumpur:20181013T100000
DTSTAMP:20260420T105032
CREATED:20220613T195049Z
LAST-MODIFIED:20230117T011722Z
UID:3311-1539424800-1539424800@www.jfkl.org.my
SUMMARY:The Weekend Japanese Film Show ( October 2018 )
DESCRIPTION:[vc_row css=".vc_custom_1655699509054{margin-bottom: 50px !important;}"][vc_column width="1/6"][/vc_column][vc_column width="2/3"][vc_single_image source="external_link" custom_src="https://www.jfkl.org.my/wp-content/uploads/2023/01/5E3A9912-630x420-1.jpg"][vc_column_text]Photo Credit : (c)2016 FUCHI NI TATSU FILM PARTNERS & COMME DES CINEMAS\nHARMONIUM\n( 淵に立つ )\n(FUKADA Koji 深田晃司 / 2016 / 119 min / P13 )\nSynopsis\nDrama about an unusual co-habitation arrangement that disturbs a family's tranquility. Helmed by Fukuda Koji\, who has earned international accolades for films including Hospitalit and Au revoir l't. Winner of the Jury Prize in the Un Certain Regard section at the 69th Cannes Film Festival.\nSuzuoka Toshio (Furutachi Kanji) operates a small suburban factory and lives with his wife Akie (Tsutsui Mariko) and daughter Hotaru (Shinokawa Momone). One day\, Toshio's acquaintance Yasaka (Asano Tadanobu) shows up fresh out of prison\, and Toshio decides to let Yasaka move in without consulting Akie.\nCast\nASANO Tadanobu - YASAKA Sotaro\nFURUTACHI Kanji - SUZUOKA Toshio\nTSUTSUI Mariko - SUZUOKA Aki\nStaff\nFUKADA Koji - Screenplay\nNEGISHI Kenichi - Cinematography\nFUKADA Koji - Editor\nFilm Festivals / Award\n2016 Cannes Film Festival\, Un Certain Regard\, Jury Prize\n2016 Tokyo International Film Festival\, Japan Now\n2016 Toronto International Film Festival\, Special Presentations\n*Screening will be in Japanese language with English subtitles.\nScreening Information\n\n\n\nDate\n13th October\, 2018 ( Saturday )\n\n\nTime\n10.00 a.m ( Registration starts at 9.30 a.m )\n\n\nVenue\nGSC NU Sentral\, Kuala Lumpur ( Level 5\, NU Sentral )\n\n\nAdmission /Booking\nAdmission isFree. BookingisREQUIREDwithfirst-come-first-serve basis andLIMITEDto 2 pax under one (1) nameONLY.Method of booking\n\nClickhere\nClick "REGISTER"\nInsert no of pax ( max 2 pax per person )\nClick?CHECKOUT? and fill up your information\nClick complete registration and e-tickets will be sent to your email.\n\n\nTicket sales start on1stOctober2018 at 9.00am\nPlease print your tickets or save it in your mobile and bring it to the registration counter during the screening day as prove of booking.\nIf your have any further inquiries\, please write topress@jfkl.org.my\n\n\n\n\n\n \nFAQs\n\nI have a friend/relative who would like to come along. Should we register separately or can I register for him/her as well?\nYou are allowed to book a ticket for a maximum of two people under your name. Both of you must be present with an e-ticket on the day of the screening in order to enter the auditorium.\nHow about if two or more people wanted to join me?\nThey would have to register separately.\nDo I need to have an Eventbrite account to register?\nNo\, you don?t have to. Just choose your desired session and fill up the registration form to obtain your e-ticket.\nWhen is the last day to register?\nThere is no deadline for registration. Registration will be open till the day of the screening or when all available e-tickets have been redeemed\, whichever comes first.\nI have registered and attended the previous screening. Do I still need to register for the next one?\nYes\, you must register for each new screening and bring along the relevant e-ticket.\nHow many e-tickets are available for each screening?\n130 tickets will be available.\nI registered but just found out that I cannot make it anymore. Can I transfer my ticket to a friend/relative?\nYes\, you may but you would need to first inform us via email or phone so that we can change the details in our system.\nHow about if I would like to cancel my registration?\nPlease inform us via email or phone as well. Your e-ticket could go to someone else who may have missed out on a seat!\nI'd like to attend the screening but the e-tickets have all ran out. What should I do?\nPlease send us an email or give us a call. We will inform you if there are any cancellations one day before the screening.\n\n[/vc_column_text][/vc_column][vc_column width="1/6"][/vc_column][/vc_row]\n
URL:https://www.jfkl.org.my/events/the-weekend-japanese-film-show-october-2018/
CATEGORIES:Special Screening
ATTACH;FMTTYPE=image/jpeg:https://www.jfkl.org.my/wp-content/uploads/2022/06/1104_ext_01_0.jpg
ORGANIZER;CN="Organized%20By%20JFKL":MAILTO:Email
END:VEVENT
END:VCALENDAR