 BEGIN:VCALENDAR
VERSION:2.0
PRODID:-//JFKL - ECPv4.4.5//NONSGML v1.0//EN
CALSCALE:GREGORIAN
METHOD:PUBLISH
X-WR-CALNAME:JFKL
X-ORIGINAL-URL:https://www.jfkl.org.my
X-WR-CALDESC:Events for JFKL
BEGIN:VEVENT
DTSTART;TZID=Asia/Kuala_Lumpur:20161105T113000
DTEND;TZID=Asia/Kuala_Lumpur:20161105T113000
DTSTAMP:20260421T082409
CREATED:20220613T195057Z
LAST-MODIFIED:20230117T184121Z
UID:3337-1478345400-1478345400@www.jfkl.org.my
SUMMARY:The Weekend Japanese Film Show in November Midnight Diner
DESCRIPTION:[vc_row css=".vc_custom_1655430001537{margin-bottom: 50px !important;}"][vc_column width="1/6"][/vc_column][vc_column width="2/3"][vc_column_text]\nNOTE:  * Due to limited space\, we are unable to accommodate more than 120 people in the hall.  ** The film will begin at 11.30 a.m. and 3.00 p.m. sharp. Latecomers may have to be turned away at the door so as not to disturb the other viewers. Attendees are advised to arrive early to avoid disappointment.\nDate: 5 November\, 2016 (Saturday) Time: 11.30 a.m. and 3.00 p.m. (2 shows) Venue: Auditorium\, Content Malaysia Pitching Centre\, Unit G09 & G10\, Platinum Sentral\, Jalan Stesen Sentral 50470\, Kuala Lumpur (directions) Admission: Free\nPresented in Japanese with English subtitles.\nDownload our flyer here for the venue map.\n[/vc_column_text][vc_single_image source="external_link" custom_src="https://www.jfkl.org.my/wp-content/uploads/2023/01/Main-Still-copyrighted-630x445-1.jpg" css=".vc_custom_1655429984684{padding-bottom: 20px !important;}"][vc_column_text]\nMidnight Diner 深夜食堂 (MATSUOKA Joji 松岡錠司/2015/119 min)\nTucked away in the back alley of a busy shopping district is a diner that opens after midnight and whose menu only comprises pork miso soup and sake. However\, the mysterious proprietor of this establishment?known only by the title\, "master"--can whip up just about anything at the specific request of his quirky patrons. As the nights pass\, these regulars overcome a variety of problems and share gossip while enjoying the master's meals.\nBased on the award-winning manga and television series of the same name\, Joji Matsuoka's culinary drama promises to warm the heart and excite the tastebuds with its charming vignettes of life in Japan.\nCast\nKOBAYASHI Kaoru as Master TABE Mikako as Michiru Kuriyama TSUTSUI Michitaka as Kenzo Oishi ODAGIRI Joe as Kogure\n\n[/vc_column_text][/vc_column][vc_column width="1/6"][/vc_column][/vc_row]\n
URL:https://www.jfkl.org.my/events/the-weekend-japanese-film-show-in-november-midnight-diner/
CATEGORIES:Special Screening
ATTACH;FMTTYPE=image/jpeg:https://www.jfkl.org.my/wp-content/uploads/2022/06/1007_ext_01_0.jpg
ORGANIZER;CN="Organized%20By%20JFKL":MAILTO:Email
END:VEVENT
END:VCALENDAR