 BEGIN:VCALENDAR
VERSION:2.0
PRODID:-//JFKL - ECPv4.4.5//NONSGML v1.0//EN
CALSCALE:GREGORIAN
METHOD:PUBLISH
X-WR-CALNAME:JFKL
X-ORIGINAL-URL:https://www.jfkl.org.my
X-WR-CALDESC:Events for JFKL
BEGIN:VEVENT
DTSTART;TZID=Asia/Kuala_Lumpur:20151205T150000
DTEND;TZID=Asia/Kuala_Lumpur:20151205T150000
DTSTAMP:20260423T033854
CREATED:20220613T195106Z
LAST-MODIFIED:20230117T191009Z
UID:3365-1449327600-1449327600@www.jfkl.org.my
SUMMARY:The Weekend Japanese Film Show in December ? Tamako Love Story
DESCRIPTION:[vc_row css=".vc_custom_1655435019124{margin-bottom: 50px !important;}"][vc_column width="1/6"][/vc_column][vc_column width="2/3"][vc_column_text]\nDate: 5 December 2015\nTime: 3:00 pm\nVenue: Auditorium\, Content Malaysia Pitching Centre\, Unit G09 & G10\, Platinum Sentral\, Jalan Stesen Sentral 50470\, Kuala Lumpur\nAdmission: Free\nThe film is presented in Japanese with English subtitles.\nDownload our flyer here for the venue map.\nTamako Love Story\nたまこラブストーリー\n(山田尚子 YAMADA Naoko/2014/83 min)\nTamako is the eldest daughter of a family that runs Tama-ya mochi chop in the Usagiyama Shopping District. Mochizo is Tamako?s childhood friend whose family owns the mochi shop across from Tama-ya.\nLove Story picks up where the anime left off\, with Dera the talking bird bringing us back into the story ? Mochizo is attempting to build his courage and confess his feelings to Tamako before leaving for university in Tokyo. When he eventually does\, this delves Tamako into a state of shock as she grapples to deal with this revelation and her own feelings.\nCast (voice)\nSUZAKI Aya as KITASHIRAKAWA Tamako\nTAMARU Atsushi as OJI Mochizo\nKANEKO Yuki as TOKIWA Midori\nNAGATSUMA Juri as MAKINO Kanna\n\n[/vc_column_text][/vc_column][vc_column width="1/6"][/vc_column][/vc_row]\n
URL:https://www.jfkl.org.my/events/the-weekend-japanese-film-show-in-december-tamako-love-story/
CATEGORIES:Special Screening
ATTACH;FMTTYPE=image/jpeg:https://www.jfkl.org.my/wp-content/uploads/2022/06/956_ext_01_0.jpg
ORGANIZER;CN="Organized%20By%20JFKL":MAILTO:Email
END:VEVENT
END:VCALENDAR