 BEGIN:VCALENDAR
VERSION:2.0
PRODID:-//JFKL - ECPv4.4.5//NONSGML v1.0//EN
CALSCALE:GREGORIAN
METHOD:PUBLISH
X-WR-CALNAME:JFKL
X-ORIGINAL-URL:https://www.jfkl.org.my
X-WR-CALDESC:Events for JFKL
BEGIN:VEVENT
DTSTART;TZID=Asia/Kuala_Lumpur:20200215T100000
DTEND;TZID=Asia/Kuala_Lumpur:20200215T100000
DTSTAMP:20260419T231312
CREATED:20220613T195040Z
LAST-MODIFIED:20220801T013829Z
UID:3285-1581760800-1581760800@www.jfkl.org.my
SUMMARY:The Weekend Japanese Film Show (February 2020)
DESCRIPTION:[vc_row css=".vc_custom_1655358325812{margin-bottom: 50px !important;}"][vc_column width="1/6"][/vc_column][vc_column width="2/3"][vc_column_text]\nOkko's Inn (若おかみは小学生！)\n(KOSAKA Kitaro 高坂 希太郎 / 2018 / 94 min / P13)\nCast: KOBAYASHI Seiran\, MATSUDA Satsumi\, MIZUKI Nana\nDirector: KOSAKA Kitaro\nScreenplay: YOSHIDA Reiko\nOriginal Story: REIJO Hiroko\nAnimation Director: HIROTA Shunsuke\nSynopsis\nAfter losing her parents in a car accident\, Okko starts living with her grandmother in the countryside who runs a hot-spring ryokan - traditional Japanese inn. There\, the young girl can somehow see friendly ghosts who help her get used to the ryokan life\, and she becomes the apprentice as its future proprietress after her grandmother.\nScreening Information\nDate: 15 February 2020 (Saturday)\nTime: 10:00 AM (Registration starts at 9:30 AM)\nVenue: GSC NU Sentral\, Kuala Lumpur (Level 5\, NU Sentral)\nAdmission/Bookings: Admission is FREE. Booking is REQUIRED via Eventbrite. (Please see details below)\nLIMITED TO 1 BOOKING PER PERSON ONLY.\n*Screening in Japanese with English subtitles.\nBookings\n\nVisit www.eventbrite.com\nSearch "The Weekend Japanese Film Show (February 2020)"\nClick "REGISTER"\nInsert no. of pax (max 2 pax per booking\, LIMITED TO 1 BOOKING PER PERSON)\nClick "CHECKOUT" and fill up your information\nClick "COMPLETE REGISTRATION" and e-tickets will be sent to your email.\n\n\nTicket reservation starts on 8 February 2020 at 9:00 am.\nPlease print your tickets or save it in your mobile and bring it to the registration counter during the screening day as proof of booking.\n\nFor more information\, our Facebook event page here.\nFor further inquiries\, please write to info[at]jfkl.org.my with the email title "The Weekend Japanese Film Show".\nHOW TO REGISTER ご予約方法\nStep 1: Register here. (Ticket booking starts on 8 February 2020\, 9:00 am)\nステップ1: こちらのリンクをクリックしてください: The Weekend Japanese Film Show (February 2020) \nStep 2: You will be redirected to the official Eventbrite page. Click on ?REGISTER?.\nステップ2: Eventbriteのページにジャンプします。「REGISTER」をクリックして下さい。\nStep 3: Fill up the form and click on 'COMPLETE REGISTRATION'.\nステップ3: フォームに必要事項を記入し、「COMPLETE REGISTRATION」をクリックしてください。\nStep 4: An e-ticket will be sent to you via email. Please bring this e-ticket with you on the day of the screening. You can print out the e-ticket or show the JFKL staff-on-duty the e-ticket on your phone.\nステップ4: E-チケットがE-メールにて送付されます。上映会当日はこちらのチケットを印刷してお持ち下さい。印刷が不可能な場合は、受付係員にチケットが分かる状態の携帯電話などをご提示ください。\nREGISTRATION TERMS & CONDITIONS ご予約に際して\n\nEach person is allowed to register up to TWO pax only (including yourself).\nお一人様2席までの予約とさせていただいております。\nEach show is limited to the first 140 people who registered and have an e-ticket.\n上映は各回共に、先着140名様までのご予約とさせていただき、ご予約の上チケットをご提示いただいた方のみご来場いただけます。\nThose without an e-ticket will not be permitted entry.\nご予約頂いていない方のご入場はお断りさせて頂きます。\n\nREGISTRATION ASSISTANCE お問い合わせ\nPlease send a message to info[at]jfkl.org.my or call us at 03 2284 6228.\nご不明な点がおありの場合、また、ご自身でのご予約が困難な場合は、当センターまでE-メール info@jfkl.org.my　あるいは03-2284 6228（日本語可）までお電話にてお気軽にお問い合わせください。\nPlease proceed to the end of this page for the FAQ.\nThe Weekend Japanese Film Show FAQs\n\nI have a friend/relative who would like to come along. Should we register separately or can I register for him/her as well?\nYou are allowed to book a ticket for a maximum of two people under your name. Both of you must be present with an e-ticket on the day of the screening in order to enter the auditorium.\nHow about if two or more people wanted to join me?\nThey would have to register separately.\nDo I need to have an Eventbrite account to register?\nNo\, you don?t have to. Just choose your desired session and fill up the registration form to obtain your e-ticket.\nWhen is the last day to register?\nThere is no deadline for registration. Registration will be open till the day of the screening or when all available e-tickets have been redeemed\, whichever comes first.\nI have registered and attended the previous screening. Do I still need to register for the next one?\nYes\, you must register for each new screening and bring along the relevant e-ticket.\nWhat is the capacity of the hall?\nIt can fit for up to 140 guests.\nI registered but just found out that I cannot make it anymore. Can I transfer my ticket to a friend/relative?\nYes\, you may but you would need to first inform us via email or phone so that we can change the details in our system.\nHow about if I would like to cancel my registration?\nPlease inform us via email or phone as well. Your e-ticket could go to someone else who may have missed out on a seat!\nI?d like to attend the screening but the e-tickets have all ran out. What should I do?\nPlease send us an email or give us a call. We will inform you if there are any cancellations one day before the screening.\n\n[/vc_column_text][/vc_column][vc_column width="1/6"][/vc_column][/vc_row]\n
URL:https://www.jfkl.org.my/events/the-weekend-japanese-film-show-february-2020/
CATEGORIES:Special Screening
ATTACH;FMTTYPE=image/png:https://www.jfkl.org.my/wp-content/uploads/2022/06/1607_ext_01_0.png
ORGANIZER;CN="Organized%20By%20JFKL":MAILTO:Email
END:VEVENT
END:VCALENDAR