 BEGIN:VCALENDAR
VERSION:2.0
PRODID:-//JFKL - ECPv4.4.5//NONSGML v1.0//EN
CALSCALE:GREGORIAN
METHOD:PUBLISH
X-WR-CALNAME:JFKL
X-ORIGINAL-URL:https://www.jfkl.org.my
X-WR-CALDESC:Events for JFKL
BEGIN:VEVENT
DTSTART;TZID=Asia/Kuala_Lumpur:20120413T203000
DTEND;TZID=Asia/Kuala_Lumpur:20120414T000000
DTSTAMP:20260422T140423
CREATED:20220613T194114Z
LAST-MODIFIED:20220624T001410Z
UID:3057-1334349000-1334361600@www.jfkl.org.my
SUMMARY:[Small Grant] Katsura Kan Butoh Dance Theatre Performance
DESCRIPTION:[vc_row css=".vc_custom_1655804550728{margin-bottom: 50px !important;}"][vc_column width="1/6"][/vc_column][vc_column width="2/3"][vc_column_text]\nPublic are welcome to participate in the butoh dance performance by KATSURA Kan. Katsura\, a native of Kyoto\, is a Master Butoh artist from among the ranks of Japan?s senior generation of Butoh performers.\n\nTwo Presentations:\nTime Machine ? Katsura Kan Solo Choreography\nCurious Fish ? Group Choreography\nDate & Time: Friday\, April 13th @ 8:30 pm\nVenue: Black Box\, MAPKL\nPrice: RM30 for public & RM15 for students\n\n\nKatsuran Kan presents BUTOH DANCE RELATION\nDate & Time: Saturday\, April 14th @ around 9.00pm\nVenue: MAPKL\nAdmission: Free and open to the public\nFor booking\, please call Sea Heike (0192114070) or email at sea.chel.hei@gmail.\n\n[/vc_column_text][/vc_column][vc_column width="1/6"][/vc_column][/vc_row]\n
URL:https://www.jfkl.org.my/events/small-grant-katsura-kan-butoh-dance-theatre-performance/
CATEGORIES:Performing Arts
ATTACH;FMTTYPE=image/png:https://www.jfkl.org.my/wp-content/uploads/2022/06/default_thumb_page.png
END:VEVENT
END:VCALENDAR