 BEGIN:VCALENDAR
VERSION:2.0
PRODID:-//JFKL - ECPv4.4.5//NONSGML v1.0//EN
CALSCALE:GREGORIAN
METHOD:PUBLISH
X-WR-CALNAME:JFKL
X-ORIGINAL-URL:https://www.jfkl.org.my
X-WR-CALDESC:Events for JFKL
BEGIN:VEVENT
DTSTART;TZID=Asia/Kuala_Lumpur:20120727T000000
DTEND;TZID=Asia/Kuala_Lumpur:20120728T000000
DTSTAMP:20260423T011237
CREATED:20220613T194114Z
LAST-MODIFIED:20230116T225140Z
UID:3053-1343347200-1343433600@www.jfkl.org.my
SUMMARY:[Small Grant] John Dip Silas Trio feat. Chika Asamato
DESCRIPTION:[vc_row css=".vc_custom_1655804477666{margin-bottom: 50px !important;}"][vc_column width="1/6"][/vc_column][vc_column width="2/3"][vc_column_text]\nThe talented John Dip Silas returns to NBT with his fresh take on jazz. This time he will be jazzing it up with Chika Asamoto\, the premier professional female sax player in Japan. After years of exploring different ideas\, one of her discoveries is a sound that blends jazz improvisation\, ambient and influences that combined the concepts of Eastern and Western contemporary music. Let?s see what she has in store with John Dip Silas.\nDate: 27 & 28 July 2012\nTime: 9.30PM\nTicket: Adult RM50\, Students RM30 (Free entrance for ASWARA students!)\nVenue: No Black Tie\, 17\, Jalan Mesui\, Off Jalan Nagasari\, 50200 Kuala Lumpur\nFor further inquiries please call 03 2142 3737.[/vc_column_text][/vc_column][vc_column width="1/6"][/vc_column][/vc_row]\n
URL:https://www.jfkl.org.my/events/small-grant-john-dip-silas-trio-feat-chika-asamato/
CATEGORIES:Performing Arts
ATTACH;FMTTYPE=image/jpeg:https://www.jfkl.org.my/wp-content/uploads/2022/06/1176_ext_01_0.jpg
END:VEVENT
END:VCALENDAR