 BEGIN:VCALENDAR
VERSION:2.0
PRODID:-//JFKL - ECPv4.4.5//NONSGML v1.0//EN
CALSCALE:GREGORIAN
METHOD:PUBLISH
X-WR-CALNAME:JFKL
X-ORIGINAL-URL:https://www.jfkl.org.my
X-WR-CALDESC:Events for JFKL
BEGIN:VEVENT
DTSTART;TZID=Asia/Kuala_Lumpur:20111217T000000
DTEND;TZID=Asia/Kuala_Lumpur:20120101T000000
DTSTAMP:20260422T172103
CREATED:20220613T194903Z
LAST-MODIFIED:20220624T001910Z
UID:3218-1324080000-1325376000@www.jfkl.org.my
SUMMARY:Shingo Tokihiro Costume Exhibition
DESCRIPTION:[vc_row css=".vc_custom_1655340241199{margin-bottom: 50px !important;}"][vc_column width="1/6"][/vc_column][vc_column width="2/3"][vc_column_text]After his well-received costume exhibition and opening performance in February 2011\, Shingo Tokihiro is back once again to present his exquisite theatre costumes\, as well as his extensive knowledge on costume design.\nIn conjunction with the Opening of the Performing Arts Centre of Penang (penangpac)\, Mr. Tokihiro’s lavish costumes will grace the premises as part of his Costume Exhibition which begins from 17 December 2011. And then\, on 19 December 2011\, Mr. Tokihiro will be presenting a Textile Talk and Theatrical Fashion Performance\, entitled “Whispering of Water\, Wind of Memories”\, at the National Textile Museum in Kuala Lumpur. Don’t miss this chance to be inspired by Shingo Tokihiro’s fabulous costume designs!\nPenang\nCostume Exhibition\nDate: 17 December 2011?1 January 2012\nVenue: Performing Arts Centre of Penang (penangpac)\, 3H-3A-1\, Straits Quay\, Jalan Seri Tanjung Pinang\, Tanjung Tokong\, 10470 Pulau Pinang\nAdmission: Open to Public\nKuala Lumpur\nTextile Talk and Theatrical Fashion Performance\n“Whispering of Water\, Wind of Memories”\nDate & Time: 19 December 2011\, 8.30pm\nVenue: Mezzanine Floor\, Saindera Gallery\, Level 1\, National Textile Museum\, Jalan Sultan Hishamuddin\, 50050 Kuala Lumpur\nAdmission: Open to Public\nFor more information please contact:\nTel: +603 2694 3457 / +603 2694 3461\nFax: +603 2694 3466\nEmail: prmuziumtekstilnegarakl@jmm.gov.my\nAbout Shingo Tokihiro\nThe costume and the styling he creates with his creative sensibility are often described as “literary lyric” and have been receiving recognitions from home and abroad. Started out as a fashion writer\, he first started his career as a costume designer in 1991 with Mozart’s “The Magic Flute”. Since then\, he has participated in various performances from theatre\, contemporary dance to drum concerts and poetry readings as a costume designer. Some of the major productions he has participated in overseas are\, “Rashomon” at Istana Budaya\, Malaysia in 2004 and International Shakespeare Festival\, Romania in 2006\, “Tanabata Star Story” in Zhenjiang\, China in 2011. He has also conducted costume making or styling workshops in various cities in Japan as well as in the Philippines\, Thailand\, Vietnam and Malaysia.[/vc_column_text][/vc_column][vc_column width="1/6"][/vc_column][/vc_row]\n
URL:https://www.jfkl.org.my/events/shingo-tokihiro-costume-exhibition/
CATEGORIES:Visual Arts
ATTACH;FMTTYPE=image/jpeg:https://www.jfkl.org.my/wp-content/uploads/2022/06/1228_ext_01_0.jpg
ORGANIZER;CN="Organized%20By%20JFKL":MAILTO:Email
END:VEVENT
END:VCALENDAR