 BEGIN:VCALENDAR
VERSION:2.0
PRODID:-//JFKL - ECPv4.4.5//NONSGML v1.0//EN
CALSCALE:GREGORIAN
METHOD:PUBLISH
X-WR-CALNAME:JFKL
X-ORIGINAL-URL:https://www.jfkl.org.my
X-WR-CALDESC:Events for JFKL
BEGIN:VEVENT
DTSTART;TZID=Asia/Kuala_Lumpur:20200229T200000
DTEND;TZID=Asia/Kuala_Lumpur:20200803T000000
DTSTAMP:20260419T230845
CREATED:20220613T194030Z
LAST-MODIFIED:20230116T195417Z
UID:2933-1583006400-1596412800@www.jfkl.org.my
SUMMARY:Rashomon 2020
DESCRIPTION:[vc_row css=".vc_custom_1655773772574{margin-bottom: 50px !important;}"][vc_column width="1/6"][/vc_column][vc_column width="2/3"][vc_column_text]\n\n\nThe Japan Foundation\, Kuala Lumpur (JFKL) and Malaysia?s pioneer theatre company\, The Actors Studio (TAS) will co-organise the memorial collaboration project\, "Rashomon 2020" celebrating the 30th anniversary of both JFKL and TAS.\n\nThe Actors Studio's adaptation of Rashomon is based on Rashomon\, the film\, which marked the entrance of Japanese film onto the world stage when it won the Golden Lion Award at the Venice Film Festival in 1951 and catapulted influential Japanese filmmaker Akira Kurosawa to international fame. Rashomon 2020 will build on the success of the past three staging\, bringing the best of the best together including old and new team members.\n\nFeaturing a stellar cast featuring both foreign and local actors including Narita Doppo\, Goshima Maiya\, Lee Swee Keong\, Omar Ali\, Faridah Merican; directed and designed by Joe Hasham OAM\, Rashomon 2020 will be presented as a trilingual production (Japanese\, English and Mandarin)\, and aims to be the perfect reflection of our past and our future\, a display of multiculturism at its best that is evident in 21st Century society where borders are increasingly erased.\n\n\n\n\n\n\n\nA samurai is murdered and his wife raped. The body of the samurai is discovered by a woodcutter. Just before the crime took place\, a priest passed the couple. A notorious bandit comes forward to claim responsibility for the crime and the woodcutter and priest are summoned to testify at the trial. So begins the recounting of the crime by ?the bandit ?the woodcutter ?the wife ?and the samurai (through a medium). Except each of the four testimonies contradict each other. What really happened on the day of the crime?\n\nPresented by The Actors Studio Seni Teater Rakyat & the Japan Foundation\, Kuala Lumpur\n\n Date & Time\n29 February\, 1-8 March\n29 Feb\, 3-7 Mar @ 8.00 PM\, 1 & 8 Mar @ 3.00 PM\n\n Venue \nPentas 1\, klpac\n\nTickets \nRegular:\nSamurai: RM100 / Bandit: RM80 / Gatekeeper: RM60\n\nConcession (TAS Card\, JFKL Members\, Seniors above 60\, Students\, Disabled)\nSamurai: RM 80 / Bandit: RM 60 / Gatekeeper: RM40\n\nWeekday Mania (3 & 4 March shows only)\nSamurai: RM 60 / Bandit & Gatekeeper: RM 40 Language:\n\n(Performed in English\, Japanese & Mandarin\, with surtitles in English.)\n*Trigger Warning: Show contains depictions of physical and sexual violence\n\n\n>>> CLICK HERE TO PURCHASE TICKETS <<<\n\n\n\n\n The Team\nDirector / Artistic Director: Joe Hasham OAM\nExecutive Producer: Dato' Dr. Faridah Merican\nSet Designer: Paul Hasham\nLighting Designer: Yusman Mokhtar\nMusic Director: Khairil Imran\nMovement Director: Ho Lee Ching\nCo-Movement Director: Chloe Tan\nCostume Designer: Wendy Kwek\nMusicians: Khairil Imran\, Coebar Abel\, Endee Ahmad\, Ian Francis Khoo\n\n \n\nCast \nNarita Doppo (The Bandit Tajomaru)\nGoshima Maiya (The Wife)\nOmar Ali (The Samurai Husband)\nLee Swee Keong (The Priest)\nHo Lee Ching (The Medium)\nAmelia Chen (Gatekeeper 1)\nChloe Tan (Gatekeeper 2)\nAiman Aiman (Gatekeeper 3)\nAdam Hamizan (Gatekeeper 4)\nTristen Zijuin (Gatekeeper 5)\nNabil Musawir (Man 1)\nClarence Kuna (Man 2)\nGlamorique (Court Official)\nFaridah Merican (Judge)\n\nFacebook event page\n\n\n[/vc_column_text][/vc_column][vc_column width="1/6"][/vc_column][/vc_row]
URL:https://www.jfkl.org.my/events/rashomon-2020/
CATEGORIES:Performing Arts
ATTACH;FMTTYPE=image/jpeg:https://www.jfkl.org.my/wp-content/uploads/2022/06/1609_ext_01_0.jpg
ORGANIZER;CN="Organized%20By%20JFKL":MAILTO:Email
END:VEVENT
END:VCALENDAR