 BEGIN:VCALENDAR
VERSION:2.0
PRODID:-//JFKL - ECPv4.4.5//NONSGML v1.0//EN
CALSCALE:GREGORIAN
METHOD:PUBLISH
X-WR-CALNAME:JFKL
X-ORIGINAL-URL:https://www.jfkl.org.my
X-WR-CALDESC:Events for JFKL
BEGIN:VEVENT
DTSTART;TZID=Asia/Kuala_Lumpur:20190718T000000
DTEND;TZID=Asia/Kuala_Lumpur:20190718T000000
DTSTAMP:20260420T021414
CREATED:20220613T194034Z
LAST-MODIFIED:20220623T174921Z
UID:2941-1563408000-1563408000@www.jfkl.org.my
SUMMARY:Physical Theatre Workshop by Leandro Kees
DESCRIPTION:[vc_row css=".vc_custom_1655774105813{margin-bottom: 50px !important;}"][vc_column width="1/6"][/vc_column][vc_column width="2/3"][vc_column_text]\nThis workshops focuses on training\, staging strategies and compositional principles coming from dance\, theatre and film. It aims to facilitate different approaches to direction and choreography in theatre\, dance and physical theatre\, in order to create a dramaturgy of physical actions that functions independent from language.\nPARTICIPANTS: Ages 18 and up. The workshops is meant for theatre practitioners and dancers interested in the field of physical tether. The level of experience has to be intermediate or advance. The workshop welcomes theatre makers with different physical backgrounds: Dance\, martial arts\, sports\, others. \n\n\nDATE/TIME:\nStudio 1\, DPAC\, Empire Damansara\n20 July (Saturday) & 21 July (Sunday)\, 1:00 PM - 6:00 PM\nFor more information\, visit http://www.dpac.com.my/\n \nSt. Jo's Level 3\, Gurney Paragon \n18 July (Thursday) 6:00 PM to 10:00 PM\nFor more information\, visit https://georgetownfestival.com/\n [/vc_column_text][/vc_column][vc_column width="1/6"][/vc_column][/vc_row]\n
URL:https://www.jfkl.org.my/events/physical-theatre-workshop-by-leandro-kees/
CATEGORIES:Performing Arts
ATTACH;FMTTYPE=image/jpeg:https://www.jfkl.org.my/wp-content/uploads/2022/06/1476_ext_01_0.jpg
ORGANIZER;CN="Organized%20By%20JFKL":MAILTO:Email
END:VEVENT
END:VCALENDAR