 BEGIN:VCALENDAR
VERSION:2.0
PRODID:-//JFKL - ECPv4.4.5//NONSGML v1.0//EN
CALSCALE:GREGORIAN
METHOD:PUBLISH
X-WR-CALNAME:JFKL
X-ORIGINAL-URL:https://www.jfkl.org.my
X-WR-CALDESC:Events for JFKL
BEGIN:VEVENT
DTSTART;TZID=Asia/Kuala_Lumpur:20050215T173000
DTEND;TZID=Asia/Kuala_Lumpur:20050215T193000
DTSTAMP:20260422T214736
CREATED:20220613T194145Z
LAST-MODIFIED:20220627T200007Z
UID:3156-1108488600-1108495800@www.jfkl.org.my
SUMMARY:"Omatsuri Pihyaradon" by Kazenoko Theatre Company
DESCRIPTION:[vc_row css=".vc_custom_1655870909226{margin-bottom: 50px !important;}"][vc_column width="1/6"][/vc_column][vc_column width="2/3"][vc_column_text]The Actors Studio Bangsar with the support of The Japan Foundation Kuala Lumpur will present theatre performances by Kazenoko Theatre Company of Japan called ?OMATSURI PIHYARADON?. The Kazenoko Theatre Company has received some financial support from the Japan Foundation Headquarters in Tokyo for their performances in Kuala Lumpur.\n?Omatsuri Pihyaradon? is suitable and enjoyable for adults and children.\nKazenoko Theatre Company was founded in 1950 to produce programs for children with the belief that children were builders for the future. The company?s headquarter is in Tokyo. In order to present the shows and to entertain children who live all over Japan\, the company decided to establish local Kazenoko offices. Today local Kazenoko Theatre Company is active in producing programs to inspire children?s creativity; and some shows to adopt culture and traditions.\nThe ?Omatsuri Pihyaradon? will be held as follows:\nDate : 15 February 2005 (Tuesday)\nTime : 5:30pm & 7:30pm\nVenue : The Actors Studio Bangsar\nBangsar Shopping Centre\nTicket : RM40 (adult) RM20 (children)\nPlease contact The Actors Studio Bangsar Box Office at 03-2094 0400/1400 or log on to their website at www.theactorsstudio.com.my for details.[/vc_column_text][/vc_column][vc_column width="1/6"][/vc_column][/vc_row]\n
URL:https://www.jfkl.org.my/events/omatsuri-pihyaradon-by-kazenoko-theatre-company/
CATEGORIES:Performing Arts
ATTACH;FMTTYPE=image/png:https://www.jfkl.org.my/wp-content/uploads/2022/06/default_thumb_page.png
ORGANIZER;CN="Organized%20By%20JFKL":MAILTO:Email
END:VEVENT
END:VCALENDAR