 BEGIN:VCALENDAR
VERSION:2.0
PRODID:-//JFKL - ECPv4.4.5//NONSGML v1.0//EN
CALSCALE:GREGORIAN
METHOD:PUBLISH
X-WR-CALNAME:JFKL
X-ORIGINAL-URL:https://www.jfkl.org.my
X-WR-CALDESC:Events for JFKL
BEGIN:VEVENT
DTSTART;TZID=Asia/Kuala_Lumpur:20111112T000000
DTEND;TZID=Asia/Kuala_Lumpur:20111210T000000
DTSTAMP:20260422T142122
CREATED:20220613T194117Z
LAST-MODIFIED:20220624T001915Z
UID:3065-1321056000-1323475200@www.jfkl.org.my
SUMMARY:Nyoba Kan International Butoh Festival 2011
DESCRIPTION:[vc_row css=".vc_custom_1655832198092{margin-bottom: 50px !important;}"][vc_column width="1/6"][/vc_column][vc_column width="2/3"][vc_column_text]\nThe Nyoba Kan International Butoh Festival makes a comeback this year. Taking place at various venues in KL\, Nyoba Kan\, the only Butoh dance group in Malaysia\, with support from the Japan Foundation\, is presenting several performances\, lectures\, workshops and exhibitions to art lovers from 12 November to 10 December 2011.\nThis year\, Nyoba Kan International Butoh Festival has invited Professor Takashi Morishita of Tatsumi Hijikata Archive\, Research Center for the Arts and Arts Administration\, Keio University\, and artistes from East Europe and America for the very first time. This festival is strongly supported by the Butoh Master\, Yukio Waguri\, who is also participating in the event. Mr. Waguri is the main disciple of the Ankoku Butoh founder\, Hijikata Tatsumi (1972-1986)\, who is also a rare second generation Butoh master.\nMore details on the 4th Nyoba Kan International Butoh Festival are available on its official website; nyobakan.blogspot.com\nTICKETS:\nRM50 show | RM60 workshop\nConcession for students\, disabled and senior citizens: RM30 show\nSpecial deals:\n*Buy 2 highlight performance tickets and ADD RM1 for the third highlight performance\n*RM10 discount for each workshop when you present a ticket stub from any highlight show\n*Special deals are only applicable to purchases made in single transactions\nTicket availability:\nklpac @ Sentul Park ? 03-4047 9000\nTAS @ Lot 10 Shopping Centre\, Level 8 ? 03-2142 2009 / 03-2143 2009\niLasso Tickets ? A606\, Block A\, Phileo Damansara II\, Petaling Jaya\nEnquiries: 03-7957 6088\nOnline purchase:\nwww.klpac.org\nwww.theactorsstudio.com.my\nWorkshop registration\nCall / SMS 010-250 3503 (Matthew) / 010-3061 100 (Jess) / 010-428 9528 (Lai Chee)\nEmail: jess_procast@yahoo.com.my[/vc_column_text][/vc_column][vc_column width="1/6"][/vc_column][/vc_row]\n
URL:https://www.jfkl.org.my/events/nyoba-kan-international-butoh-festival-2011/
CATEGORIES:Performing Arts
ATTACH;FMTTYPE=image/jpeg:https://www.jfkl.org.my/wp-content/uploads/2022/06/1232_ext_01_0.jpg
END:VEVENT
END:VCALENDAR