 BEGIN:VCALENDAR
VERSION:2.0
PRODID:-//JFKL - ECPv4.4.5//NONSGML v1.0//EN
CALSCALE:GREGORIAN
METHOD:PUBLISH
X-WR-CALNAME:JFKL
X-ORIGINAL-URL:https://www.jfkl.org.my
X-WR-CALDESC:Events for JFKL
BEGIN:VEVENT
DTSTART;TZID=Asia/Kuala_Lumpur:20111031T203000
DTEND;TZID=Asia/Kuala_Lumpur:20111102T000000
DTSTAMP:20260422T123519
CREATED:20220613T194118Z
LAST-MODIFIED:20220626T183708Z
UID:3067-1320093000-1320192000@www.jfkl.org.my
SUMMARY:Mugenjuku Troupe Tour: Traditional Sounds of Shamisen
DESCRIPTION:[vc_row css=".vc_custom_1655832209145{margin-bottom: 50px !important;}"][vc_column width="1/6"][/vc_column][vc_column width="2/3"][vc_column_text]The Japan Foundation\, Kuala Lumpur (JFKL) will invite traditional Japanese music troupe ?MUGENJUKU? for a series of performances in Penang\, Kuala Lumpur\, and Kuala Terengganu\, from 31 October to 2 November 2011.\nYou?ll enjoy the dynamic and energetic sounds of Shamisen (traditional Japanese guitar) played by more than 20 players! You can also watch the beauty of Japanese traditional dance and folk songs.\n\nPenang\nDate & Time: 31 October 2011\, 8:30pm\nVenue: Dewan Budaya\, Universiti Sains Malaysia (USM)\, Penang\nAdmission: Free\nFor inquiries\, please contact USM (Ms. Siti Rayuan bt Sapar\, tel. 04-653-3751)\, or The Consulate-General of Japan at Penang (tel. 04-226-3030).\n\n\nKuala Lumpur\nDate & Time: 1 November 2011\, 8:30pm\nVenue: Orchestra Hall\, Akademi Seni Budaya Dan Warisan Kebangsaan (ASWARA)\, 464 Jalan Tun Ismail\, 50480 Kuala Lumpur\nAdmission: Free (no booking / purchase required; free seating)\n\n\nKuala Terengganu\nDate & Time: 2 November 2011\, 8:30pm\nVenue: Dewan Sultan Mizan\, Universiti Malaysia Terengganu (UMT)\nAdmission: Free\nFor inquiries\, please contact the Department of Languages and Communication\, Faculty of Social Development\, UMT (Ms. Rohani\, tel. 09-668-3824).\n\n[/vc_column_text][/vc_column][vc_column width="1/6"][/vc_column][/vc_row]\n
URL:https://www.jfkl.org.my/events/mugenjuku-troupe-tour-traditional-sounds-of-shamisen/
CATEGORIES:Performing Arts
ATTACH;FMTTYPE=image/jpeg:https://www.jfkl.org.my/wp-content/uploads/2022/06/1234_ext_01_0.jpg
ORGANIZER;CN="Organized%20By%20JFKL":MAILTO:Email
END:VEVENT
END:VCALENDAR