 BEGIN:VCALENDAR
VERSION:2.0
PRODID:-//JFKL - ECPv4.4.5//NONSGML v1.0//EN
CALSCALE:GREGORIAN
METHOD:PUBLISH
X-WR-CALNAME:JFKL
X-ORIGINAL-URL:https://www.jfkl.org.my
X-WR-CALDESC:Events for JFKL
BEGIN:VEVENT
DTSTART;TZID=Asia/Kuala_Lumpur:20110710T000000
DTEND;TZID=Asia/Kuala_Lumpur:20110714T000000
DTSTAMP:20260422T074833
CREATED:20220613T194118Z
LAST-MODIFIED:20220624T002145Z
UID:3069-1310256000-1310601600@www.jfkl.org.my
SUMMARY:Melody of Four Seasons: Traditional Japanese Music by Shigeri Kitsu
DESCRIPTION:[vc_row css=".vc_custom_1655832233695{margin-bottom: 50px !important;}"][vc_column width="1/6"][/vc_column][vc_column width="2/3"][vc_column_text]\nIn conjunction with KL Festival\, The Japan Foundation\, Kuala Lumpur (JFKL) is inviting minyo (Japanese folk song) singer and taiko drummer Shigeri Kitsu for a series of Traditional Music performances in Kuala Lumpur\, Selangor and Sarawak\, from 10 to 14 July 2011.\nInspired by her own experiences in Japan\, Shigeri Kitsu will express the beauty of the four seasons ? Spring\, Summer\, Autumn\, and Winter ? through her moving folk songs during her performances in Malaysia.\nShigeri Kitsu started performing minyo since her childhood\, and has participated in collaboration performances with artistes from a variety of music genres including pop\, jazz and world music. She has also put efforts to introduce and spread minyo & minyo drum to people\, and has been actively involved in lectures in universities and workshops for pupils in schools. She has performed overseas\, including tours to Los Angeles in 2002\, Indonesia and Singapore in 2003\, New York in 2004\, Italy and Germany in 2008\, Kyrgyzstan\, Tajikistan and Kazakhstan in 2009 and Shanghai in 2010.\nKuala Lumpur\nDate: 10 & 11 July 2011\nTime: 8.30pm\nVenue: Mini Auditorium\, Malaysia Tourism Centre (MaTic)\, 109\, Jalan Ampang\, 50450\, Kuala Lumpur\nAdmission: Free (Entrance Pass is required)\n* Seats are limited.\n* Entrance Passes for the performances at Malaysia Tourism Centre (MaTic) can be booked by phone or collected at JFKL from 27 June ? 8 July 2011\, 8.30am ? 4.30pm (Monday)\, 10.30am ? 6.00pm (Tuesday ? Saturday). JFKL is closed on Sundays.\n* Alternatively\, after phone booking is made\, Entrance Passes can be collected at the venue (MaTic) on the day itself\, from 7.00 ? 8.00pm. After 8.00pm\, uncollected tickets will be released to the public.\n* Limited to two (2) Entrance Passes per person.\n* For further inquiries\, please call JFKL at 03-2284 6228.\nSelangor\nDate: 14 July 2011\nTime: 8.30pm\nVenue: Dewan Sivik MBPJ\, Jalan Yong Shook Lin\, 46675\, Petaling Jaya\, Selangor\nAdmission: Free\n* For reservations\, please contact Petaling Jaya Community Library (Pn. Zarina / Pn. Ira) at 03-7781 2775 / 03-7781 2790\nSarawak\nDate: 13 July 2011\nTime: 7.30pm\nVenue: Auditorium\, Level G\, Centre for Academic Information Services (CAIS)\, Universiti Malaysia Sarawak (UNIMAS)\, 94300 Kota Samarahan\, Sarawak\nAdmission : Free\n* For further details\, please contact UNIMAS (Cik Imor / Pn. Rowena) at 082-581 435 / 082-581 438\n* Due to the Great East Japan Earthquake\, this event had to be rescheduled from March 2011 to July 2011[/vc_column_text][/vc_column][vc_column width="1/6"][/vc_column][/vc_row]\n
URL:https://www.jfkl.org.my/events/melody-of-four-seasons-traditional-japanese-music-by-shigeri-kitsu/
CATEGORIES:Performing Arts
ATTACH;FMTTYPE=image/jpeg:https://www.jfkl.org.my/wp-content/uploads/2022/06/1241_ext_01_0.jpg
ORGANIZER;CN="Organized%20By%20JFKL":MAILTO:Email
END:VEVENT
END:VCALENDAR