 BEGIN:VCALENDAR
VERSION:2.0
PRODID:-//JFKL - ECPv4.4.5//NONSGML v1.0//EN
CALSCALE:GREGORIAN
METHOD:PUBLISH
X-WR-CALNAME:JFKL
X-ORIGINAL-URL:https://www.jfkl.org.my
X-WR-CALDESC:Events for JFKL
BEGIN:VEVENT
DTSTART;TZID=Asia/Kuala_Lumpur:20181002T000000
DTEND;TZID=Asia/Kuala_Lumpur:20181104T000000
DTSTAMP:20260420T121818
CREATED:20220613T201058Z
LAST-MODIFIED:20230126T224106Z
UID:3494-1538438400-1541289600@www.jfkl.org.my
SUMMARY:JFKL Small Grant Awardees October 2018
DESCRIPTION:[vc_row][vc_column][/vc_column][/vc_row][vc_row][vc_column width="1/6"][/vc_column][vc_column width="2/3"][vc_column_text]\n\n\n\nEvery month\, the Japan Foundation Kuala Lumpur highlights recipients of the Japan Foundation Grants Programme\, JFKL Small Grants Programme and JFKL Logo Support Programme. For more information on how you can obtain support for your Japan-related events and research\, visit the JFKL grants webpage  or the Japan Foundation Headquarters (Tokyo) website.\n\n\n\n \nA) Supported by JFKL Asia Centre Grant Programme\n \n\n1. The Cooler Lumpur Festival\n2-7th October 2018 @ Publika\, Solaris Dutamas[/vc_column_text][vc_single_image source="external_link" custom_src="hhttps://www.jfkl.org.my/wp-content/uploads/2023/01/CL2018_Masthead-Tablet-630x466-1.png"][vc_column_text]The Cooler Lumpur Festival is a multidisciplinary festival curated by PopDigital. The Kuala Lumpur-centric festival adopts specific themes each year with the aim to expand the city’s cultural horizons\, build stronger communities and cultivate the creativity and imagination of people.\n\nWebsite links:\n\nhttps://www.coolerlumpur.com/reboot/speakers/haruna-ikezawa/\n\nhttps://www.coolerlumpur.com/reboot/speakers/yuji-matsuyoshi/\n\nFB links:\n\nHaruna’s events\n\nhttps://www.facebook.com/events/303351457129230/\n\nhttps://www.facebook.com/events/1833058093478904/\n\nhttps://www.facebook.com/events/1899727786772796/\n\nYuji’s events\n\nhttps://www.facebook.com/events/236479983884901/\n\nhttps://www.facebook.com/events/329084947841349/\n\n \n\nFor more information on the festival\, visit the website.\n\n \n\n2.The 48th Japanese Cultural Festival\n20 August @ SOTA Concert Hall\, Singapore\n\n[/vc_column_text][vc_single_image source="external_link" custom_src="https://www.jfkl.org.my/wp-content/uploads/2023/01/48th-Japanese-Cultural-Festival-450x630-1.jpg"][vc_column_text]The Japanese Cultural Festival is an annual affair organized by the Japanese Cultural Society in conjunction with the Embassy of Japan\, the Japanese Association & the Japanese Chamber of Commerce & Industry.\n\nIt is held between August to October every year and the programs include public performances\, workshops & seminars. This is to provide Singaporeans with an opportunity to understand and appreciate the Japanese culture and at the same time brings back the hometown nostalgia to Japanese residents in Singapore.\n\n** Highlights of the 48th Japanese Cultural Festival this year:  All Japan Osuwa Daiko Association and Okinawa Eisa Dance Troupe from Japan\n\n \n3.7th International Seminar for Nusantara Heritage 2018\n23rd October 2018 @ The Crown Garden Hotel\, Kota Bahru\, Kelantan\n[/vc_column_text][vc_single_image source="external_link" custom_src="https://www.jfkl.org.my/wp-content/uploads/2023/01/ADBANNER-ISONH-UMK-2-630x300-1.jpg"][vc_column_text]Event:  7th International Seminar on Nusantara Heritage (ISoNH 2018)\n\nTheme: Nusantara Heritage: Roles of Cultural Heritage In 4.0 Industrial Revolution\n\nDate:   23rd October 2018 (Tuesday)\n\nPlace:   The Crown Garden Hotel Pt 02 & 303 Jalan Kebun Sultan\, 5300 Kota Bharu\, Kelantan\, P. O. Box 282\n\nKeynote Speaker: Emeritus Professor Dr. TAKARA Kurayoshi from University of the Ryukyus.\n\nTitle:    “Mariner’s tie ? Historical bond between Ryukyu Kingdom and Nusantara”\n\nInternational Seminar of Nusantara Heritage 2018 is a series of seminars which were held in three Southeast Asian Universities; The University of Sabah\, Malaysia\, The State University of Semarang\, Indonesia\, and The Institute of Technology Bandung\, Indonesia. For this year\, Universiti Malaysia Kelantan will be the host of the seventh seminar. The specific theme of the 7th Seminar is “Nusantara Heritage : Roles of Cultural Heritage in 4.0 Industrial Revolution”.\n\nNusantara is the terminology that has a history of geographical and cultural background (Archipelago Heritage)\, which has provided the identity and multicultural perspective in the historical development of nations\, states\, and cultural diplomacies in the region that is now called Southeast Asia. Nusantara culture and geohistory of region under the concept of heritage and cultural diversity has provided ever-growing similarities and dynamic differences that generate variety of understanding and cultural products as the result of its interaction.\n\nNusantara heritage within this contemporary culture continues to dealing with a more open and rapid migration in cultural transactions in locally\, regionally\, and even globally that generate cross-section meeting point which producing diverse contemporary culture phenomena in art practices\, designs\, craft\, and also its extension in term of visual culture in dealing with Nusantara identity with various other cultural phenomena’s.\n\nMore details can be found here ?> https://isonh2018.wordpress.com/\n\n \n4.“Japan × Malaysia International collaboration project “Singularity”“\n25th-28th October 2018 @ Studio Seedbox\, Kyoto\n[/vc_column_text][vc_single_image source="external_link" custom_src="https://www.jfkl.org.my/wp-content/uploads/2023/01/pei-ern-630x262-1.jpg"][vc_column_text]happiness! ? ≒ Choice ? Desire\n\nThe Story of individuals living in two cultures of Malaysia and Japan. Is there any difference ! ?\n\n“What would you like to take with you if you were going to the space? ”\n\nIn this project they will create a piece from this question.  It is a work with Malaysian and Japanese dancers.\n\nNote:\n\nIn September 2017\, they began to research with Lim Pei Ern in Paris. In March 2018\, Atsuki Heki stayed in the Malaysian theatre and made a solo dance and performance.\n\nThis time is a very grateful environment for their creation. They can create and perform in a studio\, located in the south of Kyoto station called studio seedbox!\n\nWell\, the answers of each performer may change from time to time. We wonder if there is an individual desire in those answers. And we might find them interesting especially in those days\, when we human beings are seriously looking at the traveling toward the space.  What is your answer?\n\nMy answer in this moment is different to the one I had a year ago.\n\nMore details can be found here ?> https://kyoto-ex.jp/2018-eng/fringe_open-entry/productionkoroentyo/\n\n \nB) JFKL Logo Support Program\n1.Japan Local Specialty Fair in Kuala Lumpur \n26th October ? 4th November 2018 @ ISETAN The Japan Store (Lot 10)\, LGF\n[/vc_column_text][vc_single_image source="external_link" custom_src="https://www.jfkl.org.my/wp-content/uploads/2023/01/clair-2-282x400-1.jpg"][vc_column_text]Name of event: Japan Local Specialty Fair in Kuala Lumpur\n\nDates: 26 (Fri) October ~ 4 (Sun) November 2018\n\nVenue: ISETAN The Japan Store (Lot 10)\, LGF\n\nShowcased products: Japanese kishimen\, udon\, apple\, sake and many more\n\nOrganizer: Council of Local Authorities for International Relations (CLAIR)\n\nFood lovers in Malaysia will be delighted to know that a wide range of delicious specialty food products from Japan will be coming to Kuala Lumpur.\n\nAt the Japan Local Specialty Fair\, you will find rare and hard to get savory food products from Japan.\n\nWhat’s more\, you will be able to participate in a lucky draw if you purchased a certain amount of products at the fair. If you are lucky\, you could get prizes such as products from Japan\, and even return air tickets to Japan![/vc_column_text][/vc_column][vc_column width="1/6"][/vc_column][/vc_row]
URL:https://www.jfkl.org.my/events/jfkl-small-grant-awardees-october-2018/
CATEGORIES:Others
ATTACH;FMTTYPE=image/jpeg:https://www.jfkl.org.my/wp-content/uploads/2022/06/1102_ext_01_0.jpg
END:VEVENT
END:VCALENDAR