 BEGIN:VCALENDAR
VERSION:2.0
PRODID:-//JFKL - ECPv4.4.5//NONSGML v1.0//EN
CALSCALE:GREGORIAN
METHOD:PUBLISH
X-WR-CALNAME:JFKL
X-ORIGINAL-URL:https://www.jfkl.org.my
X-WR-CALDESC:Events for JFKL
BEGIN:VEVENT
DTSTART;TZID=Asia/Kuala_Lumpur:20070614T090000
DTEND;TZID=Asia/Kuala_Lumpur:20071012T170000
DTSTAMP:20260422T104641
CREATED:20220613T194913Z
LAST-MODIFIED:20230116T194304Z
UID:3250-1181811600-1192208400@www.jfkl.org.my
SUMMARY:Japanese Tea Ceremony Gathering
DESCRIPTION:[vc_row css=".vc_custom_1655969991816{margin-bottom: 50px !important;}"][vc_column width="1/6"][/vc_column][vc_column width="2/3"][vc_column_text]\nCelebrating this special Malaysia’s 50th Year of Independence and 50th Year of diplomatic relations between Malaysia and Japan\, The Japan Foundation\, Kuala Lumpur and Penang State Museum & Art Gallery proudly present ‘Counter-Photography Japan’s Artists Today’ Exhibition by Japanese contemporary photographers.\nPhotography is generally known as a medium that accurately records reality. In fact\, however\, its unparalleled ability to faithfully reproduce reality can also be put to exactly the opposite effect. This characteristic of photography has given rise to the desire to reveal objects that cannot be seen with the naked eye in other words\, to photograph the invisible world.\nWith the end of modernism\, conventional value systems have crumbled\, and the communal frameworks that sustained such value systems have been revealed as mere fictions. Insight into alternative values\, such as those of the invisible world that lies hidden behind physical reality\, is fervently sought. One good place to begin the search for such values is the concrete\, individual medium of photography.\nThis exhibition showcases the works by 11 photographers from Japan\, including Eikoh Hosoe\,Hiroshi SugimotoandKazuo Katase\, who are attempting to express the value in things that are not yet visible or concealed in material reality in an era in which a spiritual foundation has been lost.\nDate:18 (Tue) September12 (Fri) October 2007 Time: 9am5pm (Closed on Sundays) Venue: Ground Floor\, Dewan Sri Penang Admission: FREE\nFor further details\, please contact The Japan Foundation\, Kuala Lumpur at 03-2161 2104 or email tojpcc@jfkl.org.my\n[/vc_column_text][vc_single_image source="external_link" custom_src="https://www.jfkl.org.my/wp-content/uploads/2023/01/96-Counter-Photography-Exhibition-18-Sep-2007-Flyer-463x630-1.jpg"][/vc_column][vc_column width="1/6"][/vc_column][/vc_row]\n
URL:https://www.jfkl.org.my/events/japanese-tea-ceremony-gathering/
CATEGORIES:Visual Arts
ATTACH;FMTTYPE=image/jpeg:https://www.jfkl.org.my/wp-content/uploads/2022/06/643_ext_01_0.jpg
ORGANIZER;CN="Organized%20By%20JFKL":MAILTO:Email
END:VEVENT
END:VCALENDAR