 BEGIN:VCALENDAR
VERSION:2.0
PRODID:-//JFKL - ECPv4.4.5//NONSGML v1.0//EN
CALSCALE:GREGORIAN
METHOD:PUBLISH
X-WR-CALNAME:JFKL
X-ORIGINAL-URL:https://www.jfkl.org.my
X-WR-CALDESC:Events for JFKL
BEGIN:VEVENT
DTSTART;TZID=Asia/Kuala_Lumpur:20120306T200000
DTEND;TZID=Asia/Kuala_Lumpur:20120327T000000
DTSTAMP:20260422T154817
CREATED:20220613T195129Z
LAST-MODIFIED:20230117T201254Z
UID:3435-1331064000-1332806400@www.jfkl.org.my
SUMMARY:Japanese Film Screenings at Publika's Films Beneath the Stars
DESCRIPTION:[vc_row css=".vc_custom_1655455210199{margin-bottom: 50px !important;}"][vc_column width="1/6"][/vc_column][vc_column width="2/3"][vc_single_image source="external_link" onclick="img_link_large" img_link_target="_blank" custom_src="https://www.jfkl.org.my/wp-content/uploads/2023/01/Publika-Special-Screening-610x2424-1.png"][/vc_column][vc_column width="1/6"][/vc_column][/vc_row]\n
URL:https://www.jfkl.org.my/events/japanese-film-screenings-at-publikas-films-beneath-the-stars/
CATEGORIES:Special Screening
ATTACH;FMTTYPE=image/jpeg:https://www.jfkl.org.my/wp-content/uploads/2022/06/1217_ext_01_0.jpg
ORGANIZER;CN="Organized%20By%20JFKL":MAILTO:Email
END:VEVENT
END:VCALENDAR