 BEGIN:VCALENDAR
VERSION:2.0
PRODID:-//JFKL - ECPv4.4.5//NONSGML v1.0//EN
CALSCALE:GREGORIAN
METHOD:PUBLISH
X-WR-CALNAME:JFKL
X-ORIGINAL-URL:https://www.jfkl.org.my
X-WR-CALDESC:Events for JFKL
BEGIN:VEVENT
DTSTART;TZID=Asia/Kuala_Lumpur:20121020T110000
DTEND;TZID=Asia/Kuala_Lumpur:20121021T161000
DTSTAMP:20260423T055311
CREATED:20220613T195126Z
LAST-MODIFIED:20230117T194417Z
UID:3427-1350730800-1350835800@www.jfkl.org.my
SUMMARY:Japanese Film Festival in Kuching
DESCRIPTION:[vc_row css=".vc_custom_1655455332255{margin-bottom: 50px !important;}"][vc_column width="1/6"][/vc_column][vc_column width="2/3"][vc_single_image source="external_link" onclick="img_link_large" img_link_target="_blank" custom_src="https://www.jfkl.org.my/wp-content/uploads/2023/01/JFFkuching-620x2499-1.png"][/vc_column][vc_column width="1/6"][/vc_column][/vc_row]\n
URL:https://www.jfkl.org.my/events/japanese-film-festival-in-kuching/
CATEGORIES:Special Screening
ATTACH;FMTTYPE=image/jpeg:https://www.jfkl.org.my/wp-content/uploads/2022/06/1169_ext_01_0.jpg
END:VEVENT
END:VCALENDAR