 BEGIN:VCALENDAR
VERSION:2.0
PRODID:-//JFKL - ECPv4.4.5//NONSGML v1.0//EN
CALSCALE:GREGORIAN
METHOD:PUBLISH
X-WR-CALNAME:JFKL
X-ORIGINAL-URL:https://www.jfkl.org.my
X-WR-CALDESC:Events for JFKL
BEGIN:VEVENT
DTSTART;TZID=Asia/Kuala_Lumpur:20170905T000000
DTEND;TZID=Asia/Kuala_Lumpur:20171001T000000
DTSTAMP:20260422T102325
CREATED:20220613T195053Z
LAST-MODIFIED:20220801T190241Z
UID:3323-1504569600-1506816000@www.jfkl.org.my
SUMMARY:Japanese Film Festival 2017
DESCRIPTION:[vc_row css=".vc_custom_1655700038815{margin-bottom: 50px !important;}"][vc_column width="1/6"][/vc_column][vc_column width="2/3"][vc_column_text]\nNow in its 14th year\, Malaysia?s largest showcase of new Japanese movies is back to serve up a diverse feast of offerings to sate every cinematic palate.\nBoasting a programme encompassing box office favourites\, award winners\, illuminating documentaries\, and manga adaptations\, the Japanese Film Festival 2017 invites all Malaysian audiences to embark on a fantastic journey of discovery.\nAll films are presented in Japanese with English subtitles.\nVisit the GSC website for showtimes and online booking.\n\n\n\nKLANG VALLEY\n7 - 13 September\nGSC Mid Valley\, GSC 1 Utama\, GSC Pavilion KL\, GSC NU Sentral\nPENANG \n14 - 17 September\nGSC Gurney Plaza\n\n\nKUCHING\n21 - 24 September\nGSC CityONE Megamall\nKOTA KINABALU \n28 September - 1 October\nGSC Suria Sabah\n\n\n\n \n* Tickets for JFF ?17 will be sold at RM8.00 (incl. of 6% GST) except for Midnight Diner 2 and Tsukiji Wonderland which will be sold at prevailing ticket pricing.\n** Tickets can be purchased from 31st August onwards (except for Midnight Diner 2 and Tsukiji Wonderland which will be sold two days before each screening) via GSC box office\, GSC e-payment at gsc.com.my or GSC mobile app.\nClick the link to visit the official festival website:\n jfkl.org.my/japanese-film-festival-2017[/vc_column_text][/vc_column][vc_column width="1/6"][/vc_column][/vc_row]\n
URL:https://www.jfkl.org.my/events/japanese-film-festival-2017/
CATEGORIES:Special Screening
ATTACH;FMTTYPE=image/jpeg:https://www.jfkl.org.my/wp-content/uploads/2022/06/1055_ext_01_0.jpg
ORGANIZER;CN="Organized%20By%20JFKL":MAILTO:Email
END:VEVENT
END:VCALENDAR