 BEGIN:VCALENDAR
VERSION:2.0
PRODID:-//JFKL - ECPv4.4.5//NONSGML v1.0//EN
CALSCALE:GREGORIAN
METHOD:PUBLISH
X-WR-CALNAME:JFKL
X-ORIGINAL-URL:https://www.jfkl.org.my
X-WR-CALDESC:Events for JFKL
BEGIN:VEVENT
DTSTART;TZID=Asia/Kuala_Lumpur:20050616T000000
DTEND;TZID=Asia/Kuala_Lumpur:20050619T000000
DTSTAMP:20260422T084957
CREATED:20220613T194144Z
LAST-MODIFIED:20230116T235429Z
UID:3149-1118880000-1119139200@www.jfkl.org.my
SUMMARY:Japanese Film Festival 2005
DESCRIPTION:[vc_row css=".vc_custom_1655868774303{margin-bottom: 50px !important;}"][vc_column width="1/6"][/vc_column][vc_column width="2/3"][vc_column_text]Those who are longing for the annual Japanese Film Festival\, here is the good news for you.\nThis is the 2nd year that the Japanese Film Festival is held at a cinema\, organised by The Japan Foundation\, Kuala Lumpur and the Consulate-General of Japan at Penang together with Golden Screen Cinemas Sdn Bhd (GSC). This year\, the festival focuses on films\, which include family-related issues in their stories. 6 films will be screened during this festival and one of them is “TOKYO STORY”\, a world-renowned director Ozu Yasujiro’s representative work. We are also screening “Village of Dreams”\, a Silver Bear award winner at Berlin Film Festival in 1996.\nKuala Lumpur\nDuration : 16 (Thu) – 19 (Sun) June 2005\nVenue : GSC\, Mid Valley\nPenang\nDuration : 8 (Fri) – 10 (Sun) July 2005\nVenue : GSC\, Gurney Plaza\nAdmission is free for both venues.\nTicket Redemption (Penang)\n* Cut out any GSC cinema directory ads to redeem 1 ticket from redemption counter\,courtesy of the Consulate-General of Japan.\n* Patron presenting 1 GSC directory ad\, get 1 ticket (Maximum of 2 tickets per person with the GSC cinema listing cut-out).\n* Patron without GSC directory ad will still get 1 ticket but one person entitles to a maximum of 1 ticket only.\n* All redemption starts 45 minutes prior each show on the day of screening.\n* First-come first-served basis.\nNOTE: Only those with GSC cinema directory ads are entitled to get the tickets.\nThe list of films to be screened are as follows:\n*** All films are in Japanese with English subtitles\n– Bokunchi – My House ぼくんち\nDirected by SAKAMOTO Junji阪本順治 (2002\, 115 min)\n– Chibimaruko-chan Movieちびまるこちゃん\nDirected by SHIBAYAMA Tsutomu芝山努 (1990\, 94 min)\n– Ping Pong Bath Station卓球温泉\nDirected by YAMAKAWA Gen山川元 (1998\, 110 min)\n– The Tastes of Tea茶の味\nDirected by ISHII Katsuhito石井克人 (2003\, 143 min)\n– Tokyo Story東京物語\nDirected by OZU Yasujiro小津安二郎 (1953\, 135 min)\n– Village of Dreams絵の中のぼくの村\nDirected by HIGASHI Youichi東陽一 (1996\, 112 min)\nNotes: “The Taste of Tea” will be screened only in KL\, and titles are subject to change due to some unforeseeable matters.\nScreening Schedule for Japanese Film Festival 2005\nKUALA LUMPUR\nGSC\, Mid Valley\n16 (Thu) – 19 (Sun) June 2005\n16 June\, Thu 15:30 Bokunchi – My House\n19:00 Village of Dreams\n17 June\, Fri 15:30 Ping Pong Bath Station\n19:00 Chibimaruko-chan Movie\n18 June\, Sat 11:00 Bokunchi – My House\n13:30 Tokyo Story\n16:15 Village of Dreams\n18:45 The Taste of Tea\n19 June\, Sun 11:30 Chibimaruko-chan Movie\n13:30 Ping Pong Bath Station\n15:50 The Taste of Tea\n18:40 Tokyo Story\nPENANG\nGSC\, Gurney Plaza\n8 (Fri) – 10 (Sun) July 2005\n8 July\, Fri 16:30 Village of Dreams\n19:00 Ping Pong Bath Station\n9 July\, Sat 12:00 Bokunchi – My House\n14:30 Chibimaruko-chan Movie\n16:40 Tokyo Story\n19:30 Ping Pong Bath Station\n10 July\, Sun 12:00 Chibimaruko-chan Movie\n14:15 Ping Pong Bath Station\n16:40 Village of Dreams\n19:30 Tokyo Story\nFor further inquiry\, please contact:\n• The Japan Foundation\, Kuala Lumpur at 03-2161 2104\, email to jpcc@jfkl.org.my\n• Consulate-General of Japan at 04-226 3030 Ext: 116 / 117\nSYNOPSIS:\n [/vc_column_text][/vc_column][vc_column width="1/6"][/vc_column][/vc_row][vc_section full_width="stretch_row" css=".vc_custom_1655869157101{padding-bottom: 50px !important;background-color: #e1e1e1 !important;}"][vc_row][vc_column width="1/6"][/vc_column][vc_column width="2/3"][vc_column_text]Bokunchi – My House\nぼくんち\n2002 / 115min / Color\n\nSTAFF:\nDirector : SAKAMOTO Junji\nProducers : TSUKADA Yuki\nSENO Keita\nScreenplay : UNO Isamu\nOriginal Story : SAIBARA Rieko\nCAST:\nKanoko : MIZUKI Arisa\nItta : YAMOTO Yuma\nNita : TANAKA Yuki\nKyoko : OHTORI Ran\nSYNOPSIS:\nKyoko\, mother of Itta and Nita\, comes back home to Suihei Island after a long absence. This time she’s there to introduce the two young boys to their big sister\, Kanoko. All three were born of different fathers and this is the beginning of their new life together. The poverty of Suihei Island is coloured with various unique residents such as Kohei\, a punk who’s gentle to women and children\, and Tetsu-ji\, an iron scrap scavenger. One day\, the three siblings are evicted because of the unexpected sale of the deed to their house\, and end up living in an apartment. In order to support them\, Kanoko starts working at a filthy brothel which the older of the two brothers\, Itta\, can’t bear. Wanting to be independent\, Itta leaves the island. Kanoko forgives errant mother Kyoko\, who caused all this trouble\, and also admits Nita is actually her own son and decides to send him to a main land for better living.\nNOTES:\nDirected by Sakamoto Junji\, whose name is highly acclaimed in the international film festival circuit. The film is based on the Saibara Rieko’s best-selling comic series\, which received the Bungei-Shunju Comic Award.\nChibimaruko Chan\nちびまる子ちゃん　大野君と杉山君\n1999 / 94min / Color\n\nSTAFF:\nDirector : SHIBAYAMA Tsutomu\nExecutive Producer : MOTOHASHI Koichi\nProducer : SATO Shoji\nBased on the comic by : SAKURA Momoko\nScreenplay : SAKURA Momoko\nDirector of Animation : YAMADA Michishiro\nNAKAJIMA Junzo\nCinematography : MORITA Toshiaki\nCAST:\nChibimaruko : TARAKO\nOhno : YAMAGUCHI Kappei\nSugiyama : MIZUHARA Rin\nMaruko’s father : YARA Yusaku\nMaruko’s mother : SUZUKI Mie\nSYNOPSIS:\nAs the second term commences\, Maruko and her classmates return to their small groups. Maruko’s group includes two naughty boys and Maruko is forced to be one of their subordinates. She seems to face a lot of pressure at school. As the school’s athletic meet approaches\, all the classmates are busy exercising. Maruko is no exception\, although her laziness means that she is late sometimes. Maruko realizes that the two boys rival each other in everything they do\, and that their friendship is deep and strong.\nNOTES:\nThe story is based on the comic by SAKURA Momoko. “Chibimaruko-chan” has been broadcasted on TV for more than 15 years.\nPing Pong Bath Station\n卓球温泉\n1998 / 110min / Color\n
URL:https://www.jfkl.org.my/events/japanese-film-festival-2005/
CATEGORIES:Performing Arts
ATTACH;FMTTYPE=image/jpeg:https://www.jfkl.org.my/wp-content/uploads/2022/06/607_ext_01_0.jpg
ORGANIZER;CN="Organized%20By%20JFKL":MAILTO:Email
END:VEVENT
END:VCALENDAR