 BEGIN:VCALENDAR
VERSION:2.0
PRODID:-//JFKL - ECPv4.4.5//NONSGML v1.0//EN
CALSCALE:GREGORIAN
METHOD:PUBLISH
X-WR-CALNAME:JFKL
X-ORIGINAL-URL:https://www.jfkl.org.my
X-WR-CALDESC:Events for JFKL
BEGIN:VEVENT
DTSTART;TZID=Asia/Kuala_Lumpur:20030722T203000
DTEND;TZID=Asia/Kuala_Lumpur:20030723T000000
DTSTAMP:20260425T110808
CREATED:20220613T194149Z
LAST-MODIFIED:20230117T000437Z
UID:3169-1058905800-1058918400@www.jfkl.org.my
SUMMARY:'Gauche the Cellist' by Opera Theatre Konnyakuza
DESCRIPTION:[vc_row css=".vc_custom_1655873011680{margin-bottom: 50px !important;}"][vc_column width="1/6"][/vc_column][vc_column width="2/3"][vc_column_text]‘Gauche the Cellist’ by Opera Theatre Konnyakuza\nこんにゃく座公演｢セロ弾きのゴーシュ｣\nThe Japan Foundation\, Kuala Lumpur 国際交流基金 and The Actors Studio will be organizing the opera ‘Gauche The Cellist’ performed by the Opera Theatre Konnyakuza.\nThe theatre was founded in Tokyo in 1971\, with the aim of creating and promoting new operas sung in Japanese by former members of Konnyaku Exercise Club in Tokyo Arts University東京藝術大学. Currently\, Konnyakuza carries on approximately 170 performances a year with Hikaru Hayashi林光as the artistic director and Kyoko Hagi萩京子as the music directorwith about twenty singers including the leading singer Keiko Takeda竹田恵子. Their productions use only a piano or small-scale ensemble and a small number of singers.\nOpera ‘ Gauche the Cellist’\nThis is a opera that based on a children’s story by Kenji Miyazawa宮澤賢治\, a well-known writer in modern Japan. Their adaptation is unique in singing many lines straight from the original wording of his story to construct a great drama. Six performers play not only six characters; Gauche\, Band Master\, Cat\, Cuckoo\, Little Raccoon and Mother rat\, but also storytellers and chorus. The story is about a young musician who grows through his friendship with animals while he develops his musical skills. This approachable opera has an equal appeal to children and adult. Opera ‘ Gauche the Cellist’ has been performed over 750 times in Japan since its premier in Tokyo in 1986. This opera will be in Japanese with English subtitles for better understanding.\nThe performances will be held as follows:\nVenue : The Actors Studio Bangsar\nLevel 3\, West Wing\,\nBangsar Shopping Centre\nDate : 22 (Tue) & 23 (Wed) July 2003\nTime : 8.30pm\nTickets : Adult RM35\nStudent RM 15\nFor tickets’ booking\, call The Actors Studio at 03-26945400 / 03-20940400 or e-mail to tickets@theactorsstudio.com.my\nPlease call The Japan Foundation\, Kuala Lumpur at 03-2161 2104\, fax to 03-21612344\, visit https://www.jfkl.org.my or contact The Actors Studio at the aforesaid numbers for enquiries.\n[/vc_column_text][vc_single_image source="external_link" onclick="link_image" custom_src="https://www.jfkl.org.my/wp-content/uploads/2023/01/151-Gauche-the-Cellist-22-Jul-2003-Postcard2-464x630-1.jpg"][/vc_column][vc_column width="1/6"][/vc_column][/vc_row]\n
URL:https://www.jfkl.org.my/events/gauche-the-cellist-by-opera-theatre-konnyakuza/
CATEGORIES:Performing Arts
ATTACH;FMTTYPE=image/jpeg:https://www.jfkl.org.my/wp-content/uploads/2022/06/588_ext_01_0.jpg
ORGANIZER;CN="Organized%20By%20JFKL":MAILTO:Email
END:VEVENT
END:VCALENDAR