 BEGIN:VCALENDAR
VERSION:2.0
PRODID:-//JFKL - ECPv4.4.5//NONSGML v1.0//EN
CALSCALE:GREGORIAN
METHOD:PUBLISH
X-WR-CALNAME:JFKL
X-ORIGINAL-URL:https://www.jfkl.org.my
X-WR-CALDESC:Events for JFKL
BEGIN:VEVENT
DTSTART;TZID=Asia/Kuala_Lumpur:20020628T203000
DTEND;TZID=Asia/Kuala_Lumpur:20020629T000000
DTSTAMP:20260425T123547
CREATED:20220613T194151Z
LAST-MODIFIED:20220627T200855Z
UID:3175-1025296200-1025308800@www.jfkl.org.my
SUMMARY:Dumb Type - Memorandum
DESCRIPTION:[vc_row css=".vc_custom_1655873478562{margin-bottom: 50px !important;}"][vc_column width="1/6"][/vc_column][vc_column width="2/3"][vc_column_text]\n“Among the most accomplished pieces of theatre in recent years” (Asahi Shimbun\, Japan)\n“Memorandum is full of new and fascinating ‘” (Liberation\, France)\nThe Japan Foundation in-cooperation with Istana Budaya will present a contemporary Multimedia dance performance entitled Memorandum by a performance group called DumbType from Kyoto\, Japan.\nMemorandum was first presented at the le Manage\, Scene Nationale\, Maubeuge (France). The final version of memorandum was premiered at the New National Theatre of Tokyo in November 2000 and has been touring the world-wide since then in many countries including USA\, France\, Singapore and finally Malaysia.\nThe artists come from various fields such as dance\, music\, visual art and architecture. Their performance will represent a new scope of contemporary art\, which is difficult to categorize\, and they draw today’s most advanced techniques. This is a rare opportunity to see them in action right here in Kuala Lumpur.Date: 28 & 29 JuneVenue: Istana BudayaTime: 8.30 pm\nTicket prices are at RM 80\, RM 55 and RM 25. Special 20% discounted ticketsfor JFKL members are available at JFKL.Please call The Japan Foundation at 03-21612104 for information.\n\n[/vc_column_text][/vc_column][vc_column width="1/6"][/vc_column][/vc_row]\n
URL:https://www.jfkl.org.my/events/dumb-type-memorandum/
CATEGORIES:Performing Arts
ATTACH;FMTTYPE=image/jpeg:https://www.jfkl.org.my/wp-content/uploads/2022/06/1186_ext_01_0.jpg
ORGANIZER;CN="Organized%20By%20JFKL":MAILTO:Email
END:VEVENT
END:VCALENDAR