 BEGIN:VCALENDAR
VERSION:2.0
PRODID:-//JFKL - ECPv4.4.5//NONSGML v1.0//EN
CALSCALE:GREGORIAN
METHOD:PUBLISH
X-WR-CALNAME:JFKL
X-ORIGINAL-URL:https://www.jfkl.org.my
X-WR-CALDESC:Events for JFKL
BEGIN:VEVENT
DTSTART;TZID=Asia/Kuala_Lumpur:20210802T000000
DTEND;TZID=Asia/Kuala_Lumpur:20211002T000000
DTSTAMP:20260422T154730
CREATED:20220619T181111Z
LAST-MODIFIED:20230116T181144Z
UID:6992-1627862400-1633132800@www.jfkl.org.my
SUMMARY:(CLOSED) 第18回マレーシア日本語教育国際研究発表会 ≪2021年10月≫
DESCRIPTION:[vc_row][vc_column][vc_column_text]\nINFO: \n\n\n\n日付　DATE\nお知らせ\nWHAT"S NEW!\n\n\n10月12日\nOctober 12\n申請いただいた方に「参加証明書」をお送りしました。（ジャンクメールなどにもご確認ください。）\n"Certificate of Attendance" has been emailed to those who have requested it. (Please check your junk mailbox.)\n\n\n10月12日\nOctober 12\n全プログラムが終了しました。\nご参加、誠にありがとうございました。\nAll the programs have been completed.\nThank you for your participation.\n\n\n9月24日\nSeptember 24\nプログラムをUPしました\nProgram (UPLOADED)\n\n\n9月22日\nSeptember 22\n予稿集をUPしました\nProceedings (UPLOADED)\n\n\n9月14日\nSeptember 14\nプログラムの変更があります。\n新しいフライヤーは  >>こちら<<\n参加登録は19日(日)までです。\n早めにご登録ください。\n参加登録はこちらから: https://www.majliskyoshikai.com/icjlem-2021\nProgram changes have been made. The new flyer is >>here<<\nRegister Deadline is Sept 19.\nPlease register as soon as possible.\nRegistration Form: https://www.majliskyoshikai.com/icjlem-2021\n\n\n9月7日\nSeptember 7\nポスター発表の発表要旨をUPしました。\nPresentation Abstracts for Poster Presentation (Uploaded)\n\n\n9月3日\nSeptember 3\nアイデア広場の出展要旨をUPしました。\nAbstracts of Exhibition for Teacher’s Corner (Uploaded)\n\n\n8月3日\nAugust 3\n基調講演の情報を更新しました。\n基調講演は日本語で行われます。\nKeynote Lecture info is updated.\nKeynote lecture will be conducted fully in Japanese.\n\n\n8月3日\nAugust 3\n参加者の募集を開始しました。\nフライヤーは ≫こちら≪。\n参加登録はこちらから：https://www.majliskyoshikai.com/icjlem-2021\n参加費：20リンギット\nお支払い方法のご案内：https://youtu.be/K_gof8WyaEw\n(ビデオ)\nRegistration for Audiences is OPEN.\nFor Flyer please click >>here<<.\nRegistration Form: https://www.majliskyoshikai.com/icjlem-2021\nRegistration Fee: MYR 20\nPayment Guidance: https://youtu.be/K_gof8WyaEw (Video)\n\n\n6月17日\nJune 17\n実施プログラムの情報をアップデートしました\nEvent Outline has been updated\n\n\n6月1日\nJune 1\nアイデア広場の公募が始まりました。『応募規定』をご確認のうえ、ご応募ください。\n>>応募規定(日本語)<< \n>>申込フォーム<< 締め切り:\n2021年8月31日（火）\n>>公募ちらし（日本語）<< \nCalling for Teacher’s Corner SubmissionPlease read the "Submission Guidelines" thoroughly.\n>>Submission Guidelines (Eng.) <<\n>>Application form<<Closing Date：\n31 Aug 2021 (Tue)\n>>Flyer  (Eng.)<<\n\n\n5月17日\nMay 17\n口頭/ポスター発表の公募が始まりました。\n『応募規定』をご確認のうえ、ご応募ください。\n>>応募規定(日本語)<<\n>>申込フォーム<<\n締め切り:\n2021年7月30日（金）12時 (正午\, マレーシア時間）\n>>公募ちらし（日本語）<< \nCalling for Oral / Poster Presentation.Please read the "Submission Guidelines" thoroughly.\n>>Submission Guidelines (Eng.)<< \n>>Application form<<Closing Date：\n30 Jul 2021 (Fri) by 12:00pm (Noon)\,　Malaysia Time>>Flyer  (Eng.)<<\n\n\n5月5日\nMay 5\n2021年度のマレーシア日本語教育国際研究発表会は、\nオンライン開催になりました!\n「アイデア広場」が帰ってきます！\nICJLEM 2021 goes ONLINE!\n“Teacher’s Corner” is coming back!\n\n\n\n [/vc_column_text][/vc_column][/vc_row][vc_row css=".vc_custom_1656033367695{margin-bottom: 50px !important;}"][vc_column width="5/6"][vc_column_text]第18回マレーシア日本語教育国際研究発表会の開催について\n国際交流基金クアラルンプール日本文化センター（JFKL）、マラヤ大学予備教育センター日本留学特別コース（AAJ）、マレーシア日本語教師会（MAJLIS）、3共催機関から成るマレーシア日本語教育国際研究発表会・実行委員会では、新型コロナウイルス（COVID-19）の影響により集会や移動の制限が行われている現状を踏まえ、2020年度に続き2021年度も研究発表会をオンラインにて開催することといたしました。\n本年度は、多くの教師が授業や教材のアイデア交換ができるように、「アイデア広場」を復活いたしました。\n【開催概要】\n・実施プログラム\n\n\n\nプログラム\n日程\nプラットホーム\n\n\n基調講演\n10月2日(土)　午前\nZoomでライブ実施\n\n\n口頭発表\n10月2日 (土） 午後\nZoomでライブ実施\n\n\nポスター発表\n9月24日（金）～10月9日（土）\n発表動画をYouTubeに限定公開して実施\n\n\nアイデア広場\n8月2日（月）～9月20日（月）\n発表動画をYouTubeに限定公開して実施\n\n\n\n※Zoomは、セキュリティー対策を講じた上で使用します。\n※ご参加には参加登録、参加費のお支払いが必要です。\n（YouTubeに公開したポスター発表、アイデア広場の動画を視聴するのにも必要です。）\n\n参加登録：8月初旬開始予定\n参加費：MYR20\n\n\n今後の日程など詳細が決まり次第、本ウェブサイトでお知らせいたします。\n定期的に INFO「お知らせ」をご確認くださるよう、お願いいたします。\n\nTHE 18TH INTERNATIONAL CONFERENCE\nON JAPANESE LANGUAGE EDUCATION IN MALAYSIA \nUnder the new norm due to the Covid-19 pandemic where we are facing difficulties in carrying out events physically\, we\, the organizers\, The Japan Foundation Kuala Lumpur (JFKL)\, Ambang Asuhan Jepun (AAJ) University of Malaya\, and Malaysian Japanese Language Instructors Society (MAJLIS) have decided to follow the previous year practice by bringing the Conference online too this year.\nThis year\, we are bringing back the “Teachers’ Corner” category for teachers to share their ideas in teaching or creating course materials.\n【Event Outline】\n・Program\n\n\n\nProgram\nDate/Period\nMedium\n\n\nKeynote Lecture\n2 Oct 2021(Sat) morning\nLive on Zoom\n\n\nOral Presentation\n2 Oct 2021(Sat) afternoon\nLive on Zoom\n\n\nPoster Presentation\n24 Sept (Fri) ～9 Oct (Sat)\nVideo recording on YouTube\n\n\nTeacher’s Corner\n2 Aug (Mon) ～20 Sept (Mon)\nVideo recording on YouTube\n\n\n\n※The organizers will take every possible security measures to use Zoom safely.\n※Registration and fee payment is required to participate. It is also required for watching “Poster Presentation” and “Teacher’s Corner” video’s on YouTube.\n\nRegistration will start early August.\nRegistration Fee: MYR20\n\n\nThe organizers will release the details and updates of the event on this website. Please check INFO "What's New"regularly.\n\n[/vc_column_text][/vc_column][vc_column width="1/6"][/vc_column][/vc_row]\n
URL:https://www.jfkl.org.my/events/closed-%e7%ac%ac18%e5%9b%9e%e3%83%9e%e3%83%ac%e3%83%bc%e3%82%b7%e3%82%a2%e6%97%a5%e6%9c%ac%e8%aa%9e%e6%95%99%e8%82%b2%e5%9b%bd%e9%9a%9b%e7%a0%94%e7%a9%b6%e7%99%ba%e8%a1%a8%e4%bc%9a-%e2%89%aa2021/
CATEGORIES:Seminar & Conference
ATTACH;FMTTYPE=image/png:https://www.jfkl.org.my/wp-content/uploads/2022/06/NEW18JLEwebpage.png
END:VEVENT
END:VCALENDAR