 BEGIN:VCALENDAR
VERSION:2.0
PRODID:-//JFKL - ECPv4.4.5//NONSGML v1.0//EN
CALSCALE:GREGORIAN
METHOD:PUBLISH
X-WR-CALNAME:JFKL
X-ORIGINAL-URL:https://www.jfkl.org.my
X-WR-CALDESC:Events for JFKL
BEGIN:VEVENT
DTSTART;TZID=Asia/Kuala_Lumpur:20210115T000000
DTEND;TZID=Asia/Kuala_Lumpur:20210307T000000
DTSTAMP:20260419T194235
CREATED:20220619T181112Z
LAST-MODIFIED:20230116T181259Z
UID:6994-1610668800-1615075200@www.jfkl.org.my
SUMMARY:(CLOSED) マレーシア日本語教育セミナー ≪2021年3月≫
DESCRIPTION:[vc_row css=".vc_custom_1657099236355{margin-bottom: 50px !important;}"][vc_column][vc_custom_heading text="2020/2021 Malaysia Japanese Language Education Seminar (MJLES)" font_container="tag:h2|text_align:center" google_fonts="font_family:Poppins%3A200%2C300%2Cregular%2Citalic%2C500%2C700%2C800|font_style:700%20bold%20regular%3A700%3Anormal" css=".vc_custom_1655693298128{margin-bottom: 30px !important;}"][vc_column_text]\nTowards Japanese Language Education Beyond Language Learning:\nThe Significance of Incorporating “Culture” into the\nField of Language Education Outside Japan\n言語学習をこえた日本語教育に向かって\n―海外の現場で「文化」を取り入れる意味―\n\nAbout the Seminar\nWhen I talk to teachers who are teaching Japanese in countries other than Japan\, I often hear the following voices:\n“I'm not a Japanese\, so I can't teach culture.”\n“I don't have time\, so I can't incorporate culture into my classes.”\nYou might also felt the same way.\nBut let's take a moment and think again.\nWhat exactly is "culture"? What does it mean to learn “culture”?\nWhat is the relationship between "culture" and Japanese language education?\nWhat benefits or positive impacts teachers can provide to learners by incorporating "culture" into a language classroom?\nAmidst the rapid change of social landscape\, skills needed and skills should be acquired by learners are changing as well.\nUsing the keyword “culture”\, let us rethink together about the advancement of Japanese language education in response to the changes of social situation.\nThis seminar will focus on and discuss Japanese language education practices suitable for learners who are learning Japanese outside Japan.\n\n Speaker: OFUNE Chisato (大舩ちさと)\n\nLecturer\,\nJapan Foundation Japanese-Language Institute\,\nUrawa. \n                          \nMs. Ofune specializes in Japanese language education at the secondary education level and intercultural education. She received Master of Education in 2004\, and is expected to be conferred a Ph.D in Global Japanese Studies from Meiji University\, Graduate school of Global Japanese Studies in March\, 2021.\nShe has been engaging in the development of teaching materials and teacher training programs\, especially for Secondary School Japanese Language Education in China\, Vietnam\, and the Philippines. She has been holding her current position since 2014. She is currently engaging with the research and practice to create a learning environment that aimed to foster learners' holistic development and stimulate the intellectual curiosity for both children and adults.\n\nSeminar Outline:\nThe Seminar will be conducted in Japanese (Recommended for those with JLPT N3 or JF Standard B1 level and above). It is open to Japanese language teachers and those involved in the field of Japanese Language Education.\n\n\n\nDate & Time\n13 March 2021 (Sat)  9:00 - 12:00\n\n\nPlatform\n Online via ZOOM\n\n\nParticipation Fee\n FREE\n\n\n\nFlyer\n\n 日本語版：Click Here\nEnglish Version: Click Here\n\n\nRegistration Form\n https://forms.gle/Qj95cqvdaRig82m46 (REGISTRATION IS CLOSED)\n\n\n\nRegistration Period\n\n 15 January 2021 ~ 7 March 2021\n\n\n\n\nREGISTRATION IS CLOSED[/vc_column_text][/vc_column][/vc_row]\n
URL:https://www.jfkl.org.my/events/closed-%e3%83%9e%e3%83%ac%e3%83%bc%e3%82%b7%e3%82%a2%e6%97%a5%e6%9c%ac%e8%aa%9e%e6%95%99%e8%82%b2%e3%82%bb%e3%83%9f%e3%83%8a%e3%83%bc-%e2%89%aa2021%e5%b9%b43%e6%9c%88%e2%89%ab/
CATEGORIES:Seminar & Conference
ATTACH;FMTTYPE=image/png:https://www.jfkl.org.my/wp-content/uploads/2022/06/1672_ext_01_0.png
END:VEVENT
END:VCALENDAR