 BEGIN:VCALENDAR
VERSION:2.0
PRODID:-//JFKL - ECPv4.4.5//NONSGML v1.0//EN
CALSCALE:GREGORIAN
METHOD:PUBLISH
X-WR-CALNAME:JFKL
X-ORIGINAL-URL:https://www.jfkl.org.my
X-WR-CALDESC:Events for JFKL
BEGIN:VEVENT
DTSTART;TZID=Asia/Kuala_Lumpur:20141122T000000
DTEND;TZID=Asia/Kuala_Lumpur:20141123T000000
DTSTAMP:20260421T115202
CREATED:20220613T194100Z
LAST-MODIFIED:20230116T220921Z
UID:3013-1416614400-1416700800@www.jfkl.org.my
SUMMARY:Borak Arts Series 2014
DESCRIPTION:[vc_row css=".vc_custom_1655798693995{margin-bottom: 30px !important;}"][vc_column width="1/6"][/vc_column][vc_column width="2/3"][vc_column_text]\nAfter establishing a name as the premier arts conference for creative industry players during its inaugural edition last year\, the Borak Art Series returns to engage artists\, presenters\, producers\, intermediaries and funders in critical dialogue on breaking cross-sector boundaries and developing financial sustainability.\nThemed ?Building Knowledge Capacity in Funding and Mobility?\, participants will converge upon MAP @ Publika for two days of keynote addresses\, panel discussions\, round robin sessions\, networking platforms and performances.\nIn keeping with its original mission\, event organiser My Performing Arts Agency (MYPAA) will continue to foster a conducive performing arts ecosystem and inculcate cultural mobility in addition to promoting accessibility to information\, tools and ideas on scaling up works of art.\nThe Japan Foundation Kuala Lumpur is beefing up the speaker ranks with  two representatives from Kigyo Mécénat Kyogikai (KMK)\, Japan?s first non-profit dedicated to encouraging corporate patronage of the arts. Executive director Taneo Kato is known as a pillar of the country?s arts community having successfully pushed for wide-ranging support as a board member and advisor to numerous arts and cultural organisations.\nHe will be joined by executive secretary Yasuko Ogiwara\, an accomplished arts administrator responsible for an exhaustive list of exhibitions\, funds\, the Japan Mécénat Awards and even the creation of an art museum.\nDate: 22 ? 23 November\, 2014\nVenue:\nMAP @ Publika (Facebook page)\nLevel G2\, Publika\, 1\, Jalan Dutamas 1\nSolaris Dutamas\, 50480 Kuala Lumpur.\nAdmission:\nEarly Bird (until 4 November)\nMalaysian | RM88\nNon-Malaysian | RM138\n\nNormal Price (from 5 November onwards)\nMalaysian | RM108\nNon-Malaysian | RM188\nTickets can be purchased at tickethotline.com.my\nFor more info\, visit the official webpage or contact Fauzia Sultan at fauzia@mypaa.com.my or bas@mypaa.com.my\n[/vc_column_text][/vc_column][vc_column width="1/6"][/vc_column][/vc_row][vc_section full_width="stretch_row" css=".vc_custom_1655798365052{padding-bottom: 50px !important;background-color: #e1e1e1 !important;}"][vc_row][vc_column width="1/4"][vc_single_image source="external_link" custom_src="https://www.jfkl.org.my/wp-content/uploads/2023/01/Mr.-Taneko-Kato-150x150-1413338212.jpg"][/vc_column][vc_column width="3/4"][vc_column_text]Taneo Kato\nExecutive Director\, KMK\nSince being appointed Section Director of the Asahi Breweries Ltd. Corporate Cultural Activities Department in 1990\, Kato has been involved in all of the company’s cultural activities\, and has continued to be a leader in wide-ranging corporate support for the arts. Kato became Director at the Association for Corporate Support for the Arts (KMK) in 2010 and has held the Executive Director position since 2012. He also contributes as advisor and board member for a number of non-profit art organisations\, charities\, corporations and government agencies.[/vc_column_text][/vc_column][/vc_row][vc_row][vc_column][vc_separator color="custom" accent_color="#cccccc" css=".vc_custom_1655798604445{padding-top: 20px !important;padding-bottom: 20px !important;}"][/vc_column][/vc_row][vc_row][vc_column width="1/4"][vc_single_image source="external_link" custom_src="https://www.jfkl.org.my/wp-content/uploads/2023/01/ms-ogiwara-150x150-1413338266.jpg"][/vc_column][vc_column width="3/4"][vc_column_text]Yasuko Ogiwara\nExecutive Secretary\, KMK\nOgiwara has served at the Association for Corporate Support of the Arts since 2011\, eventually rising up to her current rank as executive secretary in 2011. Throughout her tenure\, she has taken charge of the Mécénat Awards\, published the Mécénat Note’ bulletin\, hosted seminars and coordinated an art exhibition series by the Asahi Group Arts Foundation. She also had a significant hand in the establishment of GBFund (The Great East Japan Earthquake Restoration Fund for the recovery of arts and culture).\nPrior to joining the KMK\, the Musashino Art University graduate was involved in the management and study of multiple Artists in Residence programmes and was a member of the Culture Promotion Department at INAX. Since 1996\, Ogiwara has managed multiple art exhibitions and helped realise the construction of an art museum.[/vc_column_text][/vc_column][/vc_row][vc_row][vc_column][vc_separator color="custom" accent_color="#cccccc" css=".vc_custom_1655798604445{padding-top: 20px !important;padding-bottom: 20px !important;}"][/vc_column][/vc_row][vc_row][vc_column width="1/4"][/vc_column][vc_column width="3/4"][vc_column_text]Association for Corporate Support of the Arts\nKigyo Mécénat Kyogikai\nThe Association for Corporate Support of the Arts or KMK was established on February 14\, 1990 by private entities as Japan’s first non-profit organisation that aims promote corporate mécénat (support of the arts and culture). As of May 2013\, the association has 130 full members and 36 associate members\, including some of Japan’s leading corporations. Associate members comprise the arts foundations of companies and local governments\, as well as diverse Chambers of Commerce and business networks.\nKMK advocates the principle that corporations should support the arts independently and under their own initiative. It aims to create a cultural infrastructure for the encouragement and development of business and arts alliances by organising a variety of programmes that connects artistic and cultural communities to the commercial sector.\nIn addition\, KMK undertakes efforts to promote and heighten public awareness of its mission\, including lobbying for tax reform vis-a-vis corporate support of the arts. In 1994\, it was granted the status of “Specific Public Interest Promoting Corporation” by the Agency of Cultural Affairs. Under this status\, KMK initiated the Arts Project Assistance Approval Programme that provides corporations based in Japan with tax-deductible advantages upon supporting arts projects.\nKMK continues to raise awareness of corporate arts support\, building a cultural infrastructure for the encouragement and development of business and arts partnership.[/vc_column_text][/vc_column][/vc_row][/vc_section]\n
URL:https://www.jfkl.org.my/events/borak-arts-series-2014/
CATEGORIES:Performing Arts
ATTACH;FMTTYPE=image/png:https://www.jfkl.org.my/wp-content/uploads/2022/06/852_ext_01_0.png
END:VEVENT
END:VCALENDAR