 BEGIN:VCALENDAR
VERSION:2.0
PRODID:-//JFKL - ECPv4.4.5//NONSGML v1.0//EN
CALSCALE:GREGORIAN
METHOD:PUBLISH
X-WR-CALNAME:JFKL
X-ORIGINAL-URL:https://www.jfkl.org.my
X-WR-CALDESC:Events for JFKL
BEGIN:VEVENT
DTSTART;TZID=Asia/Kuala_Lumpur:20180925T000000
DTEND;TZID=Asia/Kuala_Lumpur:20181026T100000
DTSTAMP:20260420T103214
CREATED:20220614T004019Z
LAST-MODIFIED:20230116T010143Z
UID:3772-1537833600-1540548000@www.jfkl.org.my
SUMMARY:[Application Closed] ビブリオバトルB1-B2教師サポート付きコース　Bibliobattle B1-B2 Tutor Support Course
DESCRIPTION:[vc_row css=".vc_custom_1655958673738{margin-bottom: 50px !important;}"][vc_column width="1/6"][/vc_column][vc_column width="2/3"][vc_column_text]\n\n\n\n\n\n\n\n\n\n\nOutline\n\nこのコースは、日本語を使って、「ビブリオバトル」（本を紹介するコミュニケーションゲーム）を行うコースです。\nB1、B2レベルの人を対象にしています。ステップ1 動画でビブリオバトルの手順とポイントについて学ぶ\nステップ2 ライブレッスンで自分が読んで面白いと思った本を紹介する\nステップ3 自分の発表を動画で見て、自己評価をする ※課題：自己評価のコメントを提出する。\nステップ4 学習のふりかえりビブリオバトルを通して、自分の本の世界を広げてみませんか？※１ 紹介する本は、日本語以外の言語で書かれた本でも構いません。\nしかし、ライブレッスンで紹介する時は、日本語で紹介します。\n※２ このコースでは、ライブレッスンと課題の提出と課題に対する教師からのフィードバックがあります。\n※3 ライブレッスンは10月26日（金）9：00（日本時間）からです。必ず参加してください。■参考ウェブサイト\nビブリオバトルについて、以下のWebページに詳しい説明があります。\n（日本語）\n「ひろがる」\nhttps://hirogaru-nihongo.jp/book/article/bibrio/\n「知的書評合戦 ビブリオバトル 公式ウェブサイト」\nhttp://www.bibliobattle.jp/\n（英語）\n「BiblioBattele The official website of Bibliobattle」\nhttp://en.bibliobattle.jp/\n■受講生の抽選について\nこのコースは、抽選によって受講生を決めるコースです。抽選に申し込みたい方は、コース概要を最後までよく読んだ後、受付期間中に「受講登録」ボタンを押して申し込んでください。\nなお、抽選結果は、10月12日（金）12時頃（日本時間）に「みなと」に登録したメールアドレス宛てに送信する予定です。\nThis is a course where we use Japanese to play ‘Bibliobattle’ (a communication game where books are introduced).\nIt’s designed for people at levels B1\, or B2.\nStep 1 Learn the procedure and points of Bibliobattle via video.\nStep 2 In a Live Lesson you introduce a book which you read and thought was interesting.\nStep 3 Watch your own presentation video and do a self-assessment. *Assignment: Present your self-assessment comments.\nStep 4 Look back on what you have learned.\nHow would you like to broaden your book reading with Biblio Battle?\n* 1 We don’t mind if you present a book written in a language other than Japanese. However\, when you present it during the Live Lesson you must do so using Japanese.\n* 2 Within this course there is a Live Lesson and assignment submission\, plus feedback from the instructor about the assignment.\n* 3 The live lesson will start at 9:00am on October 26th (Fri) (Japanese Time) . Please make sure to participate in it. \n■ Web site for reference\nThere is a detailed explanation of Bibliobattle at the following web site.\n（Japanese）\n「ひろがる」\nhttps://hirogaru-nihongo.jp/book/article/bibrio/\n「知的書評合戦 ビブリオバトル 公式ウェブサイト」\nhttp://www.bibliobattle.jp/\n（English）\n「BiblioBattele The official website of Bibliobattle」\nhttp://en.bibliobattle.jp/\n■About the student selection process\nThis is a course where participating students are determined by a selection process. For those who wish to apply for the selection process\, first carefully read the course outline in full. Then\, within the designated application time period\, please click the ‘Course Registration’ button and complete the application.\nNote\, results of the selection process are expected to be sent to the email address registered with ‘Minato’ on October 12 （Fri.） around 12:00am. (Japanese Time).\n\n\n\nCourse Objective “Can-do”\n1．本の内容を順番に話して、それに対する自分の考えを簡単に話すことができる。\n2．他の参加者の発表を聞いて、本の内容や話し手の考えのポイントが理解できる。\n3．発表内容の細部に関する質問に、明確に答えることができる。1. Able to speak about the content of the book in order\, and then speak simply about your thoughts on that content.\n2. Able to listen and understand other people’s presentations plus understand the content of their book and the points made regarding the speaker’s thoughts.\n3. Able to answer questions of detail of presentation.\n\n\nTeaching Materials Used\n\n動画、ライブレッスンで学びます。\n[注意事項]\nこのコースの教材は、パソコンでの受講を前提としています。\nLearn via Video and Live Lesson.\n[Please Note]\nThe learning materials of this course assume the use of a personal computer for taking the lesson.\n\n\n\nAbout Live Lesson\n\n■ライブレッスン\nライブレッスンでのビブリオバトルは、受講生5人で行われます。教師は司会として参加します。\nレッスン時間は1時間です。ライブレッスンは、2018年10月26日（月）9：00～10：00（日本時間）に行われます。自分の住んでいる国・地域の時間をよく確認してください。\nなお、いかなる理由があってもライブレッスンの日にちを変更することはできません。■使用システム\nライブレッスン及びオーラルテストは、Zoomを使用して行われます。Zoomは専用のURLを開くとレッスンルームに行くことができるもので、システムのダウンロードやアカウントの作成は必要ありませんが、初回はプログラムのインストールが必要です。\n※PC\, Macのシステム要件Zoomを使ったグループビデオ通話の推奨環境（必要帯域）は以下の通りです。\nUpload Speed 600kbps / Download Speed 1.2Mbps\n自身のインターネット回線の帯域が分からないという方は、以下のサイトでスピードテストを行い、推奨環境を満たしていることを確認の上、受講申し込みをしてください。\nhttp://www.speedtest.net/ （外部サイトへ遷移します。）\n■準備物\nライブレッスンを受けるために、以下の2つを準備してください。\n１．ヘッドセット（マイク付き）\n２．Webカメラ\n【注意事項】\n・ライブレッスンは、世界中の学習者と繋いで行いますので、時間厳守でお願いします。また、接続状況等により15分程度延びる可能性があることをご了承ください。\n・ライブレッスンへの参加は必ずインターネットに接続しているパソコンを使用してください。ライブレッスン中に画面共有を行うことから、スマートフォンでの参加はご遠慮ください。\nThe Bibliobattle Live Lesson will be conducted with 5 students. An instructor will also be participating as the host.\nThe length of the lesson is 1 hour.\nThe Live Lesson will be conducted on October 26th (Fri)\, 2018\, 9:00am ? 10:00am (Japanese Time).\nPlease be sure to confirm the correct time in the country or region where you live.\nLive lesson date may not be changed for any reason whatsoever.\n■System used\nLive lessons and oral tests are conducted through Zoom . With Zoom\, the lesson room can be accessed by opening an assigned URL\, so there is no need to download a system or to open an account. However\, the program will need to be installed for the first lesson.\n*System requirements for PC and Mac (https://support.zoom.us/hc/en-us/articles/201362023-System-Requirements-for-PC-Mac-and-Linux)\nThe system requirements (necessary bandwidth) for the group video conference using Zoom are as follows.\nUpload Speed 600kbps / Download Speed 1.2Mbps\nFor those who don’t know the bandwidth of their internet connection\, please first conduct a speed test using the site below\, and then enrol for the course after confirming that your connection satisfies our recommended system requirements.  (This will transfer you to an external site.)\nhttp://www.speedtest.net/\n■What you need\nTo take the live lessons\, please have the following two items ready.\n1. Headset (with microphone)\n2. Web camera\nNote:\n・Live lessons connect learners from around the world. Please do not be late. Please understand that there may be up to a 15-minute delay/extension\, depending on the connection.\n・Be sure to use a computer that is connected to the internet. Do not participate with a smartphone\, as instructor’s screen will be shared during live lessons.\n\n\n\nCompletion Requirements\n\n合格点 60点以上\n点数の配分は以下の通りです。\nステップ1 事前教材の学習 25％\nステップ2 ライブレッスン   50％\nステップ3 フィードバック（課題） 15％\nステップ4 学習のふりかえり 10％\n[注意事項]\n・ライブレッスンに参加するためには、事前教材での学習が必要です。\nPassing Score: score of 60% or higher\nThe allocation of points is as follows.\n・Study Material 25%\n・Live Lesson 50%\n・Feedback (Assignment) 15%\n・Review What you Have Learnt 10%\nNote:\nYou will need to study with preview material in order to participate in the live lesson.\n\n\n\n\n[/vc_column_text][/vc_column][vc_column width="1/6"][/vc_column][/vc_row]\n
URL:https://www.jfkl.org.my/events/application-closed-b1-b2-bibliobattle-b1-b2-tutor-support-course-2/
CATEGORIES:Global Partnership,Japanese Studies
ATTACH;FMTTYPE=image/png:https://www.jfkl.org.my/wp-content/uploads/2022/06/1101_ext_01_0.png
ORGANIZER;CN="Organized%20By%20JFKL":MAILTO:Email
END:VEVENT
END:VCALENDAR