 BEGIN:VCALENDAR
VERSION:2.0
PRODID:-//JFKL - ECPv4.4.5//NONSGML v1.0//EN
CALSCALE:GREGORIAN
METHOD:PUBLISH
X-WR-CALNAME:JFKL
X-ORIGINAL-URL:https://www.jfkl.org.my
X-WR-CALDESC:Events for JFKL
BEGIN:VEVENT
DTSTART;TZID=Asia/Kuala_Lumpur:20030915T090000
DTEND;TZID=Asia/Kuala_Lumpur:20031123T180000
DTSTAMP:20260425T110542
CREATED:20220613T194917Z
LAST-MODIFIED:20220624T010701Z
UID:3263-1063616400-1069610400@www.jfkl.org.my
SUMMARY:7th Asian Cartoon Exhibition
DESCRIPTION:[vc_row css=".vc_custom_1655346859553{margin-bottom: 50px !important;}"][vc_column width="1/6"][/vc_column][vc_column width="2/3"][vc_column_text]“Getting a Job in Asia”\nCartoon fans will once again have the opportunity to enjoy the works of popular Asia cartoonists through the 7th Asian Cartoon Exhibition.\nFor your enjoyment and food for thought\, eight leading cartoonists from eight Asian nations \, including Malaysia (represented by Mr.Chan Yu Loong\, with his pen name Genesis) have produced a total of 80 new cartoons on the subject of the employment scene in their respective nations. We hope that while visitors grin and grimace at the realities of life\, they will also be able to guffaw at follies of the working world and. It is also hoped that this exhibition contributes to the visitors’ broader understanding of today’s Asia.\nAs in past years\, after traveling throughout Japan\, works from this exhibition will be featured in Malaysia\, Korea\, China\, India\, Indonesia\, The Philippines and Thailand. We look forward to interacting as well as inspiring the experiences of audiences in these nations.\nWe are also pleased to present the 7th Asian Cartoon Exhibition\, with the theme “Getting a Job in Asia” this year as one of the commemorative events marking the 30th anniversary of the Japan Foundation.\nYang Berbahagia Dato’ Lat will officiate the opening ceremony on the KL exhibition at the National\nLibrary on Friday 17 October at 9.30am.\nWith the support of the Embassy of Japan\, these exhibitions are jointly organized by the Japan Foundation\, National Library\, Kuala Lumpur\, Perak Malaysian-Japanese Friendship Society\, State Library at Perak\, The Consulate-General of Japan at Kota Kinabalu\, and Sabah Art Gallery.\nThe dates and venues of the exhibition are as follows:\nIPOH\nDate : (Mon) 15 Sep  ? (Sat) 6 Oct\nVenue : Library\nNo\,17\, Jalan Raja Dihilir\, Ipoh\nTel : 05-2553734\nTime : 9:00am ? 5:00pm Closed on Friday\nKUALA LUMPUR\nDate : 17 Oct (Fri) ? 26 Oct (Sun)\nVenue : National Library of Malaysia\n232\, Jalan Tun Razak\nTel : 03-2687 3488\nTime : 10:00am ? 6:00pm Closed on 1st & 3rd Saturday\nKOTA KINABALU\nDate : 5 Nov (Wed) ? 23 Nov (Sun)\nVenue : Wisma Budaya Art Gallery Kota Kinabalu\, Sabah\nTel : 088-268875\nTime : 10:00am ? 6:00pm Closed on 1st & 3rd Saturday[/vc_column_text][/vc_column][vc_column width="1/6"][/vc_column][/vc_row]\n
URL:https://www.jfkl.org.my/events/7th-asian-cartoon-exhibition/
CATEGORIES:Visual Arts
ATTACH;FMTTYPE=image/jpeg:https://www.jfkl.org.my/wp-content/uploads/2022/06/587_ext_01_0.jpg
ORGANIZER;CN="Organized%20By%20JFKL":MAILTO:Email
END:VEVENT
END:VCALENDAR